BEGIN:VCALENDAR
VERSION:2.0
PRODID:-//Lady Smith Manor - ECPv6.15.20//NONSGML v1.0//EN
CALSCALE:GREGORIAN
METHOD:PUBLISH
X-ORIGINAL-URL:https://ladysmithmanor.com
X-WR-CALDESC:Events for Lady Smith Manor
REFRESH-INTERVAL;VALUE=DURATION:PT1H
X-Robots-Tag:noindex
X-PUBLISHED-TTL:PT1H
BEGIN:VTIMEZONE
TZID:America/Halifax
BEGIN:DAYLIGHT
TZOFFSETFROM:-0400
TZOFFSETTO:-0300
TZNAME:ADT
DTSTART:20240310T060000
END:DAYLIGHT
BEGIN:STANDARD
TZOFFSETFROM:-0300
TZOFFSETTO:-0400
TZNAME:AST
DTSTART:20241103T050000
END:STANDARD
BEGIN:DAYLIGHT
TZOFFSETFROM:-0400
TZOFFSETTO:-0300
TZNAME:ADT
DTSTART:20250309T060000
END:DAYLIGHT
BEGIN:STANDARD
TZOFFSETFROM:-0300
TZOFFSETTO:-0400
TZNAME:AST
DTSTART:20251102T050000
END:STANDARD
BEGIN:DAYLIGHT
TZOFFSETFROM:-0400
TZOFFSETTO:-0300
TZNAME:ADT
DTSTART:20260308T060000
END:DAYLIGHT
BEGIN:STANDARD
TZOFFSETFROM:-0300
TZOFFSETTO:-0400
TZNAME:AST
DTSTART:20261101T050000
END:STANDARD
END:VTIMEZONE
BEGIN:VEVENT
DTSTART;TZID=America/Halifax:20251207T150000
DTEND;TZID=America/Halifax:20251207T170000
DTSTAMP:20260423T201251
CREATED:20241209T153604Z
LAST-MODIFIED:20250805T142535Z
UID:10000030-1765119600-1765126800@ladysmithmanor.com
SUMMARY:Christmas Afternoon Tea - 7th Dec 2025
DESCRIPTION:Enjoy a traditional Afternoon Tea surrounded by a little Christmas magic and the history and charm of Lady Smith Manor at our  Christmas Afternoon Tea.\nWarm scones spread with lashings of sweet berry jam & thick gooey cream\, miniature cakes topped with sweet buttercream\, rich chocolately bites\, mince pies & strawberries covered in smooth dark chocolate…….all washed down with cups of freshly brewed tea.\nTreat yourself to an indulgent afternoon with time worn vintage plates and tea cups\, linen napkins\, silver cutlery and fresh flowers in antique glass cruets.\nShare old memories\, and make new ones\, at your very own Christmas tea table surrounded by heirloom treasures and the rich history of an 1840 Georgian Manor.\n____________________________________________________\n\n\nSun 7th December 2025\n\n\n3pm – 5pm\n\n\n$35 per person + HST\n\n\nTables are limited.\n\n\nMinimum 2 people and maximum 5 people per table.\n\n\nPlease note: we do not offer a gluten free\, vegan or other dietary option at our Afternoon Teas\n\nRead more about our Afternoon Teas here!
URL:https://ladysmithmanor.com/event/christmas-afternoon-tea-7th-dec-2025/
LOCATION:Lady Smith Manor\, 22 Woodlawn Rd\,\, Dorchester\, NB\, E4K 3A8\, Canada
CATEGORIES:Afternoon Tea,Christmas,Christmas 2025
ATTACH;FMTTYPE=image/jpeg:https://ladysmithmanor.com/wp-content/uploads/2024/12/Christmas-Afternoon-Tea-1.jpg
ORGANIZER;CN="Lady Smith Manor":MAILTO:info@ladysmithmanor.com
END:VEVENT
END:VCALENDAR