BEGIN:VCALENDAR
VERSION:2.0
PRODID:-//Lady Smith Manor - ECPv6.15.20//NONSGML v1.0//EN
CALSCALE:GREGORIAN
METHOD:PUBLISH
X-WR-CALNAME:Lady Smith Manor
X-ORIGINAL-URL:https://ladysmithmanor.com
X-WR-CALDESC:Events for Lady Smith Manor
REFRESH-INTERVAL;VALUE=DURATION:PT1H
X-Robots-Tag:noindex
X-PUBLISHED-TTL:PT1H
BEGIN:VTIMEZONE
TZID:America/Halifax
BEGIN:DAYLIGHT
TZOFFSETFROM:-0400
TZOFFSETTO:-0300
TZNAME:ADT
DTSTART:20250309T060000
END:DAYLIGHT
BEGIN:STANDARD
TZOFFSETFROM:-0300
TZOFFSETTO:-0400
TZNAME:AST
DTSTART:20251102T050000
END:STANDARD
BEGIN:DAYLIGHT
TZOFFSETFROM:-0400
TZOFFSETTO:-0300
TZNAME:ADT
DTSTART:20260308T060000
END:DAYLIGHT
BEGIN:STANDARD
TZOFFSETFROM:-0300
TZOFFSETTO:-0400
TZNAME:AST
DTSTART:20261101T050000
END:STANDARD
BEGIN:DAYLIGHT
TZOFFSETFROM:-0400
TZOFFSETTO:-0300
TZNAME:ADT
DTSTART:20270314T060000
END:DAYLIGHT
BEGIN:STANDARD
TZOFFSETFROM:-0300
TZOFFSETTO:-0400
TZNAME:AST
DTSTART:20271107T050000
END:STANDARD
END:VTIMEZONE
BEGIN:VEVENT
DTSTART;TZID=America/Halifax:20261206T150000
DTEND;TZID=America/Halifax:20261206T170000
DTSTAMP:20260423T022014
CREATED:20251218T155438Z
LAST-MODIFIED:20251218T155438Z
UID:10000112-1796569200-1796576400@ladysmithmanor.com
SUMMARY:Christmas Afternoon Tea - Sun 6th Dec 2026
DESCRIPTION:Step into the warmth and wonder of the season at our Christmas Afternoon Tea\, where festive magic meets the timeless history and charm of Lady Smith Manor. \nSettle in and savour warm\, freshly baked scones topped with lashings of sweet berry jam and thick\, indulgent cream\, alongside an array of miniature cakes crowned with delicate buttercream\, rich chocolatey treats\, traditional mince pies\, and strawberries dipped in smooth dark chocolate — all perfectly paired with cups of freshly brewed tea. \nIndulge in a leisurely afternoon served on time-worn vintage plates and teacups\, with linen napkins\, polished silver cutlery\, and beautiful Christmas decorations adorning the house. \nLinger a little longer\, share old memories\, and create new ones at your own Christmas tea table\, surrounded by heirloom treasures and the storied elegance of our 1840 Georgian Manor. \n____________________________________________________\n\n\nSun 6th December 2026\n\n\n3pm – 5pm\n\n\n$35 per person + HST\n\n\nTables are limited.\n\n\nMinimum 2 people and maximum 5 people per table.\n\n\nPlease note: we do not offer a gluten free\, vegan or other dietary option at our Afternoon Teas\n\nRead more about our Afternoon Teas here!\n\n(Please note\, if you are having trouble seeing all the booking information on your phone\, please try turning your phone sideways. We are aware of the problem and are working to get it fixed. We apologize for any inconvenience)
URL:https://ladysmithmanor.com/event/christmas-afternoon-tea-sun-6th-dec-2026/
LOCATION:Lady Smith Manor\, 22 Woodlawn Rd\,\, Dorchester\, NB\, E4K 3A8\, Canada
CATEGORIES:Afternoon Tea,Christmas,Christmas 2026
ATTACH;FMTTYPE=image/jpeg:https://ladysmithmanor.com/wp-content/uploads/2025/12/Christmas-Afternoon-Tea-2025.jpeg
ORGANIZER;CN="Lady Smith Manor":MAILTO:info@ladysmithmanor.com
END:VEVENT
END:VCALENDAR