BEGIN:VCALENDAR
VERSION:2.0
PRODID:-//Lady Smith Manor - ECPv6.15.20//NONSGML v1.0//EN
CALSCALE:GREGORIAN
METHOD:PUBLISH
X-ORIGINAL-URL:https://ladysmithmanor.com
X-WR-CALDESC:Events for Lady Smith Manor
REFRESH-INTERVAL;VALUE=DURATION:PT1H
X-Robots-Tag:noindex
X-PUBLISHED-TTL:PT1H
BEGIN:VTIMEZONE
TZID:America/Halifax
BEGIN:DAYLIGHT
TZOFFSETFROM:-0400
TZOFFSETTO:-0300
TZNAME:ADT
DTSTART:20240310T060000
END:DAYLIGHT
BEGIN:STANDARD
TZOFFSETFROM:-0300
TZOFFSETTO:-0400
TZNAME:AST
DTSTART:20241103T050000
END:STANDARD
BEGIN:DAYLIGHT
TZOFFSETFROM:-0400
TZOFFSETTO:-0300
TZNAME:ADT
DTSTART:20250309T060000
END:DAYLIGHT
BEGIN:STANDARD
TZOFFSETFROM:-0300
TZOFFSETTO:-0400
TZNAME:AST
DTSTART:20251102T050000
END:STANDARD
BEGIN:DAYLIGHT
TZOFFSETFROM:-0400
TZOFFSETTO:-0300
TZNAME:ADT
DTSTART:20260308T060000
END:DAYLIGHT
BEGIN:STANDARD
TZOFFSETFROM:-0300
TZOFFSETTO:-0400
TZNAME:AST
DTSTART:20261101T050000
END:STANDARD
END:VTIMEZONE
BEGIN:VEVENT
DTSTART;TZID=America/Halifax:20251213T180000
DTEND;TZID=America/Halifax:20251213T210000
DTSTAMP:20260423T073447
CREATED:20250111T235201Z
LAST-MODIFIED:20251210T192419Z
UID:10000053-1765648800-1765659600@ladysmithmanor.com
SUMMARY:Music at the Manor  - "Christmas By Candlelight"
DESCRIPTION:Join us for “Music At The Manor – Christmas By Candlelight”.\nA personal and intimate way to experience the world of live music.\nEnjoy an exceptional and unforgettable classical candlelight Christmas music experience in the close\, intimate setting of the Manor.\nListen to the beauty of music as it unfolds around you and enjoy the talents of an exceptional trio of musicians as they take you into a world of live classical music.\nEnjoy Christmas inspired classical music by candlelight surrounded by the history and charm of the Manor.\nTreat yourself to our “Christmas Inspired” Cocktails in The Thirsty Whippet Pub\, enjoy our vintage style charcuterie table and finish the evening with dessert\, tea and coffee in our cozy Music Room filled with old style grandeur and unique character.\n____________________________________________________\n\n\nSaturday 13th December 2025\n\n\n6pm – 9pm\n\n\n$59 per person\n\n\nRead more about our Music At The Manor – “Christmas By Candlelight” here!
URL:https://ladysmithmanor.com/event/music-at-the-manor-christmas-by-candlelight-2025/
LOCATION:Lady Smith Manor\, 22 Woodlawn Rd\,\, Dorchester\, NB\, E4K 3A8\, Canada
CATEGORIES:Christmas,Christmas 2025,Classical Music,Music at the Manor
ATTACH;FMTTYPE=image/jpeg:https://ladysmithmanor.com/wp-content/uploads/2025/01/Christmas-By-Candlelight-Graphic-e1736540074512.jpg
ORGANIZER;CN="Lady Smith Manor":MAILTO:info@ladysmithmanor.com
END:VEVENT
END:VCALENDAR