BEGIN:VCALENDAR
VERSION:2.0
PRODID:-//Lady Smith Manor - ECPv6.15.20//NONSGML v1.0//EN
CALSCALE:GREGORIAN
METHOD:PUBLISH
X-WR-CALNAME:Lady Smith Manor
X-ORIGINAL-URL:https://ladysmithmanor.com
X-WR-CALDESC:Events for Lady Smith Manor
REFRESH-INTERVAL;VALUE=DURATION:PT1H
X-Robots-Tag:noindex
X-PUBLISHED-TTL:PT1H
BEGIN:VTIMEZONE
TZID:America/Halifax
BEGIN:DAYLIGHT
TZOFFSETFROM:-0400
TZOFFSETTO:-0300
TZNAME:ADT
DTSTART:20240310T060000
END:DAYLIGHT
BEGIN:STANDARD
TZOFFSETFROM:-0300
TZOFFSETTO:-0400
TZNAME:AST
DTSTART:20241103T050000
END:STANDARD
BEGIN:DAYLIGHT
TZOFFSETFROM:-0400
TZOFFSETTO:-0300
TZNAME:ADT
DTSTART:20250309T060000
END:DAYLIGHT
BEGIN:STANDARD
TZOFFSETFROM:-0300
TZOFFSETTO:-0400
TZNAME:AST
DTSTART:20251102T050000
END:STANDARD
BEGIN:DAYLIGHT
TZOFFSETFROM:-0400
TZOFFSETTO:-0300
TZNAME:ADT
DTSTART:20260308T060000
END:DAYLIGHT
BEGIN:STANDARD
TZOFFSETFROM:-0300
TZOFFSETTO:-0400
TZNAME:AST
DTSTART:20261101T050000
END:STANDARD
END:VTIMEZONE
BEGIN:VEVENT
DTSTART;TZID=America/Halifax:20251025T190000
DTEND;TZID=America/Halifax:20251025T230000
DTSTAMP:20260423T042955
CREATED:20250111T235902Z
LAST-MODIFIED:20250111T235902Z
UID:10000056-1761418800-1761433200@ladysmithmanor.com
SUMMARY:Wizarding Murder Mystery Party - Sat 25th Oct 2025
DESCRIPTION:Join us for an unforgettable evening of magic\, mystery\, and indulgence at our Wizarding Murder Mystery event!\nPrepare to be transported into a world of enchantment as you immerse yourself in a thrilling murder mystery while enjoying a feast fit for witches and wizards. Can you crack the case before dessert is served?\nDress in your finest robes\, dust off your detective skills\, and enjoy an evening filled with suspense\, laughter\, and plenty of magical surprises in our captivating wizarding-themed murder mystery. The mystery awaits—are you ready to solve it?\nTickets include:\n\n\nWelcome cocktail on arrival\n\n\nAn evening of mystery\, suspense and fun.\n\n\nDelicious Buffet dinner\n\n\nGlass of wine with dinner.\n\n\nDessert\, Coffee & Tea\n\n\n“Wizarding” Photo Booth\n\n\n“Best Costume” and “Master Detective” Awards\n\n\n____________________________________________________\n\n\nSat 25th October 2025\n\n\n7pm – 11pm\n\n\n$95 + HST\n\n\nDress Code: Your best wizarding attire!
URL:https://ladysmithmanor.com/event/wizarding-murder-mystery/
LOCATION:Lady Smith Manor\, 22 Woodlawn Rd\,\, Dorchester\, NB\, E4K 3A8\, Canada
CATEGORIES:Murder Mystery,Specialty Events
ATTACH;FMTTYPE=image/jpeg:https://ladysmithmanor.com/wp-content/uploads/2025/01/Wizarding-Murder-Mystery-Party-Graphic-e1736536558577.jpg
ORGANIZER;CN="Lady Smith Manor":MAILTO:info@ladysmithmanor.com
END:VEVENT
BEGIN:VEVENT
DTSTART;TZID=America/Halifax:20250116T193000
DTEND;TZID=America/Halifax:20250116T213000
DTSTAMP:20260423T042955
CREATED:20241228T194839Z
LAST-MODIFIED:20250117T021633Z
UID:10000034-1737055800-1737063000@ladysmithmanor.com
SUMMARY:Movie Night - Shawshank Redemption | 16th Jan 2025
DESCRIPTION:Grab your drink\, popcorn and a cozy blanket because it’s time for a movie night! Whether you’re a cinephile or just looking for a fun way to unwind\, this event is the perfect opportunity to enjoy a great film in a relaxed and friendly atmosphere.\n\n\nFeature Presentation: Shawshank Redemption\n\n\nSnacks Galore: Popcorn\, snacks\, and beverages will be available (For an additional cost)\n\n\nComfortable Seating: Choose a cozy armchair\, vintage theatre seat or comfy seat in the Pub Lounge.\n\n\nLet’s share some laughs\, suspense\, and memorable moments together at our cozy evening of cinema!\n🎟️ Admission: $5\nSeats are limited and tickets must be purchased in advance.\nLights\, camera\, action—see you there!\n____________________________________________________\n\n\nThursday 16th January 2025\n\n\n7.30pm\n\n\n$5 per person + HST\n\n\nSeats are limited.\n\n\nRead more about our Movie Nights here!
URL:https://ladysmithmanor.com/event/movie-night-shawshank-redemption-16th-jan-2025/
LOCATION:The Thirsty Whippet Pub\, 22 Woodlawn Road\, Dorchester\, New Brunswick\, E4K 3A8\, Canada
CATEGORIES:Movie Night,Murder Mystery,The Thirsty Whippet Pub
ATTACH;FMTTYPE=image/jpeg:https://ladysmithmanor.com/wp-content/uploads/2024/12/Movie-Night-Post-e1735231626903.jpg
ORGANIZER;CN="The Thirsty Whippet Pub":MAILTO:miriam@ladysmithmanor.com
END:VEVENT
END:VCALENDAR