BEGIN:VCALENDAR
VERSION:2.0
PRODID:-//Lady Smith Manor - ECPv6.15.20//NONSGML v1.0//EN
CALSCALE:GREGORIAN
METHOD:PUBLISH
X-ORIGINAL-URL:https://ladysmithmanor.com
X-WR-CALDESC:Events for Lady Smith Manor
REFRESH-INTERVAL;VALUE=DURATION:PT1H
X-Robots-Tag:noindex
X-PUBLISHED-TTL:PT1H
BEGIN:VTIMEZONE
TZID:America/Halifax
BEGIN:DAYLIGHT
TZOFFSETFROM:-0400
TZOFFSETTO:-0300
TZNAME:ADT
DTSTART:20230312T060000
END:DAYLIGHT
BEGIN:STANDARD
TZOFFSETFROM:-0300
TZOFFSETTO:-0400
TZNAME:AST
DTSTART:20231105T050000
END:STANDARD
BEGIN:DAYLIGHT
TZOFFSETFROM:-0400
TZOFFSETTO:-0300
TZNAME:ADT
DTSTART:20240310T060000
END:DAYLIGHT
BEGIN:STANDARD
TZOFFSETFROM:-0300
TZOFFSETTO:-0400
TZNAME:AST
DTSTART:20241103T050000
END:STANDARD
BEGIN:DAYLIGHT
TZOFFSETFROM:-0400
TZOFFSETTO:-0300
TZNAME:ADT
DTSTART:20250309T060000
END:DAYLIGHT
BEGIN:STANDARD
TZOFFSETFROM:-0300
TZOFFSETTO:-0400
TZNAME:AST
DTSTART:20251102T050000
END:STANDARD
BEGIN:DAYLIGHT
TZOFFSETFROM:-0400
TZOFFSETTO:-0300
TZNAME:ADT
DTSTART:20260308T060000
END:DAYLIGHT
BEGIN:STANDARD
TZOFFSETFROM:-0300
TZOFFSETTO:-0400
TZNAME:AST
DTSTART:20261101T050000
END:STANDARD
END:VTIMEZONE
BEGIN:VEVENT
DTSTART;TZID=America/Halifax:20241231T190000
DTEND;TZID=America/Halifax:20250101T010000
DTSTAMP:20260423T075334
CREATED:20240515T202420Z
LAST-MODIFIED:20241229T000557Z
UID:10000005-1735671600-1735693200@ladysmithmanor.com
SUMMARY:Downton Abbey New Year's Eve Party
DESCRIPTION:Turn back the clock and celebrate the New Year in Downton Abbey style.\nEnjoy a stylish jazz cocktail reception and sumptuous dinner\, Wine & Whisky Tasting and a unique Downton Abbey experience.\nDress to impress and bring your best “Lady Mary chic” for a chance to win some fantastic prizes in our “Best Dressed” Competition. Test your Downton Abbey knowledge with our intriguing Scavenger Hunt and Trivia Game.\nImmerse yourself in the enchanting atmosphere and enjoy live music at our cocktail jazz reception\, a sumptuous dinner with wine and dessert\, tea and coffee in beside the fire in the Music Room.\nCapture memories in our Downton Abbey inspired photo booth and as the clock strikes twelve\, raise your glass for a champagne toast to celebrate the start of a brand-new year.\nYour welcome drink\,  glass of wine at dinner and champagne toast is included in the ticket price and then pay as you go at The Thirsty Whippet Pub.\nTickets include:\n\n\nWelcome cocktail on arrival\n\n\nDownton Abbey Inspired Dinner & Wine\n\n\nDessert\, coffee and tea served in the Music Room\n\n\nLive Jazz Band\n\n\nWhisky and Wine Tasting\n\n\nScavenger Hunt & Downton Abbey Trivia\n\n\nPhoto Booth and “Best Dressed ” Contest & Prizes\n\n\nChampagne Toast\n\n\n____________________________________________________\n\n\nTuesday 31st December 2024\n\n\n7pm – 1am\n\n\n$199 plus HST\n\n\nDress Code: Formal.
URL:https://ladysmithmanor.com/event/downton-abbey-new-years-eve-party/
LOCATION:Lady Smith Manor\, 22 Woodlawn Rd\,\, Dorchester\, NB\, E4K 3A8\, Canada
CATEGORIES:New Years Eve,Specialty Events
ATTACH;FMTTYPE=image/jpeg:https://ladysmithmanor.com/wp-content/uploads/2024/05/Downton-Abbey-NYE.jpg
ORGANIZER;CN="Lady Smith Manor":MAILTO:info@ladysmithmanor.com
END:VEVENT
END:VCALENDAR