BEGIN:VCALENDAR
VERSION:2.0
PRODID:-//Lady Smith Manor - ECPv6.15.20//NONSGML v1.0//EN
CALSCALE:GREGORIAN
METHOD:PUBLISH
X-WR-CALNAME:Lady Smith Manor
X-ORIGINAL-URL:https://ladysmithmanor.com
X-WR-CALDESC:Events for Lady Smith Manor
REFRESH-INTERVAL;VALUE=DURATION:PT1H
X-Robots-Tag:noindex
X-PUBLISHED-TTL:PT1H
BEGIN:VTIMEZONE
TZID:America/Halifax
BEGIN:DAYLIGHT
TZOFFSETFROM:-0400
TZOFFSETTO:-0300
TZNAME:ADT
DTSTART:20250309T060000
END:DAYLIGHT
BEGIN:STANDARD
TZOFFSETFROM:-0300
TZOFFSETTO:-0400
TZNAME:AST
DTSTART:20251102T050000
END:STANDARD
BEGIN:DAYLIGHT
TZOFFSETFROM:-0400
TZOFFSETTO:-0300
TZNAME:ADT
DTSTART:20260308T060000
END:DAYLIGHT
BEGIN:STANDARD
TZOFFSETFROM:-0300
TZOFFSETTO:-0400
TZNAME:AST
DTSTART:20261101T050000
END:STANDARD
BEGIN:DAYLIGHT
TZOFFSETFROM:-0400
TZOFFSETTO:-0300
TZNAME:ADT
DTSTART:20270314T060000
END:DAYLIGHT
BEGIN:STANDARD
TZOFFSETFROM:-0300
TZOFFSETTO:-0400
TZNAME:AST
DTSTART:20271107T050000
END:STANDARD
END:VTIMEZONE
BEGIN:VEVENT
DTSTART;TZID=America/Halifax:20260501T170000
DTEND;TZID=America/Halifax:20260501T200000
DTSTAMP:20260423T042429
CREATED:20260131T185339Z
LAST-MODIFIED:20260131T234507Z
UID:10000123-1777654800-1777665600@ladysmithmanor.com
SUMMARY:Pasta With The Chef - Fri 1st May 2026
DESCRIPTION:A Manor Kitchen Experience with Chef Laura\nJoin us in the heart of the Manor for an intimate\, hands-on cooking class led by our very own Chef Laura. This relaxed and welcoming experience is all about slowing down\, getting your hands flour-dusted\, and enjoying the simple luxury of cooking — and eating — together. \nWhat to Expect:\nDuring this 3-hour Manor Kitchen Experience\, you’ll: \n\nLearn how to make fresh pasta from scratch\, from dough to shaping\, with step-by-step guidance\nPrepare a fresh\, elevated tomato sauce designed to perfectly complement your pasta\nCook together in the Manor kitchen as your meal comes together\nGather around the table to enjoy the pasta you’ve made\, served family-style with a fresh salad and warm bread\n\n\nIncluded with Your Ticket:\n\n3-hour hands-on cooking experience\nHands-on fresh pasta making from scratch\nFresh\, Fancy Tomato Sauce prepared together\nA shared pasta meal you’ve made\, served with a fresh salad and warm bread\nOne glass of wine or beer\nA very special surprise dessert to finish\n\nThis class is intentionally small\, warm\, and unhurried — perfect for food lovers\, friends\, couples\, or anyone looking for a memorable\, hands-on culinary experience in a beautiful historic setting. \nWant to linger a little longer?\nAfter the meal is shared and the evening begins to wind down\, you are warmly invited to extend the experience with an optional overnight stay in one of our Manor suites. \nA special\, discounted rate of $225 + HST (including breakfast) is offered exclusively to Manor Kitchen Experience guests. If you’d like to enquire about adding an overnight stay\, please email us at info@ladysmithmanor.com and we’ll be happy to confirm availability — the perfect way to let the evening unfold without any rush home. \n\n____________________________________________________\n\n\nFriday 1st May 2026\n\n\n5pm – 8pm (Please arrive about 10 mins before 5pm)\n\n\n$95 per person + HST\n\n\nSpaces are limited to 6 per experience and booking is required.\n\n\nPlease note: we do not offer a gluten free\, vegan\, dairy free or other dietary option at our Manor Kitchen Experiences\n\n\nRead more about our  Manor Kitchen Experiences here!\n\n\n(Please note\, if you are having trouble seeing all the booking information on your phone\, please try turning your phone sideways. We are aware of the problem and are working to get it fixed. We apologize for any inconvenience)
URL:https://ladysmithmanor.com/event/pasta-with-the-chef-sat-1st-may-2026/
LOCATION:Lady Smith Manor\, 22 Woodlawn Rd\,\, Dorchester\, NB\, E4K 3A8\, Canada
CATEGORIES:Manor Kitchen Experience,Pasta With The Chef,Specialty Events
ATTACH;FMTTYPE=image/png:https://ladysmithmanor.com/wp-content/uploads/2026/01/Pasta-With-the-Chef-GRaphic.png
ORGANIZER;CN="Lady Smith Manor":MAILTO:info@ladysmithmanor.com
END:VEVENT
BEGIN:VEVENT
DTSTART;TZID=America/Halifax:20260502T170000
DTEND;TZID=America/Halifax:20260502T200000
DTSTAMP:20260423T042429
CREATED:20260131T185514Z
LAST-MODIFIED:20260131T234355Z
UID:10000122-1777741200-1777752000@ladysmithmanor.com
SUMMARY:Pasta With The Chef - Sat 2nd May 2026
DESCRIPTION:A Manor Kitchen Experience with Chef Laura\nJoin us in the heart of the Manor for an intimate\, hands-on cooking class led by our very own Chef Laura. This relaxed and welcoming experience is all about slowing down\, getting your hands flour-dusted\, and enjoying the simple luxury of cooking — and eating — together. \nWhat to Expect:\nDuring this 3-hour Manor Kitchen Experience\, you’ll: \n\nLearn how to make fresh pasta from scratch\, from dough to shaping\, with step-by-step guidance\nPrepare a fresh\, elevated tomato sauce designed to perfectly complement your pasta\nCook together in the Manor kitchen as your meal comes together\nGather around the table to enjoy the pasta you’ve made\, served family-style with a fresh salad and warm bread\n\n\nIncluded with Your Ticket:\n\n3-hour hands-on cooking experience\nHands-on fresh pasta making from scratch\nFresh\, Fancy Tomato Sauce prepared together\nA shared pasta meal you’ve made\, served with a fresh salad and warm bread\nOne glass of wine or beer\nA very special surprise dessert to finish\n\nThis class is intentionally small\, warm\, and unhurried — perfect for food lovers\, friends\, couples\, or anyone looking for a memorable\, hands-on culinary experience in a beautiful historic setting. \nWant to linger a little longer?\nAfter the meal is shared and the evening begins to wind down\, you are warmly invited to extend the experience with an optional overnight stay in one of our Manor suites. \nA special\, discounted rate of $225 + HST (including breakfast) is offered exclusively to Manor Kitchen Experience guests. If you’d like to enquire about adding an overnight stay\, please email us at info@ladysmithmanor.com and we’ll be happy to confirm availability — the perfect way to let the evening unfold without any rush home. \n\n____________________________________________________\n\n\nSaturday 2nd May 2026\n\n\n5pm – 8pm (Please arrive about 10 mins before 5pm)\n\n\n$95 per person + HST\n\n\nSpaces are limited to 6 per experience and booking is required.\n\n\nPlease note: we do not offer a gluten free\, vegan\, dairy free or other dietary option at our Manor Kitchen Experiences\n\n\nRead more about our  Manor Kitchen Experiences here!\n\n\n(Please note\, if you are having trouble seeing all the booking information on your phone\, please try turning your phone sideways. We are aware of the problem and are working to get it fixed. We apologize for any inconvenience)
URL:https://ladysmithmanor.com/event/pasta-with-the-chef-sat-2nd-may-2026/
LOCATION:Lady Smith Manor\, 22 Woodlawn Rd\,\, Dorchester\, NB\, E4K 3A8\, Canada
CATEGORIES:Manor Kitchen Experience,Pasta With The Chef,Specialty Events
ATTACH;FMTTYPE=image/png:https://ladysmithmanor.com/wp-content/uploads/2026/01/Pasta-With-the-Chef-GRaphic.png
ORGANIZER;CN="Lady Smith Manor":MAILTO:info@ladysmithmanor.com
END:VEVENT
BEGIN:VEVENT
DTSTART;TZID=America/Halifax:20260709T170000
DTEND;TZID=America/Halifax:20260709T200000
DTSTAMP:20260423T042429
CREATED:20260131T185622Z
LAST-MODIFIED:20260131T234231Z
UID:10000125-1783616400-1783627200@ladysmithmanor.com
SUMMARY:Pasta With The Chef - Thurs 9th July 2026
DESCRIPTION:A Manor Kitchen Experience with Chef Laura\nJoin us in the heart of the Manor for an intimate\, hands-on cooking class led by our very own Chef Laura. This relaxed and welcoming experience is all about slowing down\, getting your hands flour-dusted\, and enjoying the simple luxury of cooking — and eating — together. \nWhat to Expect:\nDuring this 3-hour Manor Kitchen Experience\, you’ll: \n\nLearn how to make fresh pasta from scratch\, from dough to shaping\, with step-by-step guidance\nPrepare a fresh\, elevated tomato sauce designed to perfectly complement your pasta\nCook together in the Manor kitchen as your meal comes together\nGather around the table to enjoy the pasta you’ve made\, served family-style with a fresh salad and warm bread\n\n\nIncluded with Your Ticket:\n\n3-hour hands-on cooking experience\nHands-on fresh pasta making from scratch\nFresh\, Fancy Tomato Sauce prepared together\nA shared pasta meal you’ve made\, served with a fresh salad and warm bread\nOne glass of wine or beer\nA very special surprise dessert to finish\n\nThis class is intentionally small\, warm\, and unhurried — perfect for food lovers\, friends\, couples\, or anyone looking for a memorable\, hands-on culinary experience in a beautiful historic setting. \nWant to linger a little longer?\nAfter the meal is shared and the evening begins to wind down\, you are warmly invited to extend the experience with an optional overnight stay in one of our Manor suites. \nA special\, discounted rate of $225 + HST (including breakfast) is offered exclusively to Manor Kitchen Experience guests. If you’d like to enquire about adding an overnight stay\, please email us at info@ladysmithmanor.com and we’ll be happy to confirm availability — the perfect way to let the evening unfold without any rush home. \n\n____________________________________________________\n\n\nThursday 9th July 2026\n\n\n5pm – 8pm (Please arrive about 10 mins before 5pm)\n\n\n$95 per person + HST\n\n\nSpaces are limited to 6 per experience and booking is required.\n\n\nPlease note: we do not offer a gluten free\, vegan\, dairy free or other dietary option at our Manor Kitchen Experiences\n\n\nRead more about our  Manor Kitchen Experiences here!\n\n\n(Please note\, if you are having trouble seeing all the booking information on your phone\, please try turning your phone sideways. We are aware of the problem and are working to get it fixed. We apologize for any inconvenience)
URL:https://ladysmithmanor.com/event/pasta-with-the-chef-thurs-9th-july-2026/
LOCATION:Lady Smith Manor\, 22 Woodlawn Rd\,\, Dorchester\, NB\, E4K 3A8\, Canada
CATEGORIES:Manor Kitchen Experience,Pasta With The Chef,Specialty Events
ATTACH;FMTTYPE=image/png:https://ladysmithmanor.com/wp-content/uploads/2026/01/Pasta-With-the-Chef-GRaphic.png
ORGANIZER;CN="Lady Smith Manor":MAILTO:info@ladysmithmanor.com
END:VEVENT
BEGIN:VEVENT
DTSTART;TZID=America/Halifax:20260912T170000
DTEND;TZID=America/Halifax:20260912T200000
DTSTAMP:20260423T042429
CREATED:20260131T185850Z
LAST-MODIFIED:20260131T233548Z
UID:10000126-1789232400-1789243200@ladysmithmanor.com
SUMMARY:Pasta With The Chef - Sat 12th Sept 2026
DESCRIPTION:A Manor Kitchen Experience with Chef Laura\nJoin us in the heart of the Manor for an intimate\, hands-on cooking class led by our very own Chef Laura. This relaxed and welcoming experience is all about slowing down\, getting your hands flour-dusted\, and enjoying the simple luxury of cooking — and eating — together. \nWhat to Expect:\nDuring this 3-hour Manor Kitchen Experience\, you’ll: \n\nLearn how to make fresh pasta from scratch\, from dough to shaping\, with step-by-step guidance\nPrepare a fresh\, elevated tomato sauce designed to perfectly complement your pasta\nCook together in the Manor kitchen as your meal comes together\nGather around the table to enjoy the pasta you’ve made\, served family-style with a fresh salad and warm bread\n\n\nIncluded with Your Ticket:\n\n3-hour hands-on cooking experience\nHands-on fresh pasta making from scratch\nFresh\, Fancy Tomato Sauce prepared together\nA shared pasta meal you’ve made\, served with a fresh salad and warm bread\nOne glass of wine or beer\nA very special surprise dessert to finish\n\nThis class is intentionally small\, warm\, and unhurried — perfect for food lovers\, friends\, couples\, or anyone looking for a memorable\, hands-on culinary experience in a beautiful historic setting. \nWant to linger a little longer?\nAfter the meal is shared and the evening begins to wind down\, you are warmly invited to extend the experience with an optional overnight stay in one of our Manor suites. \nA special\, discounted rate of $225 + HST (including breakfast) is offered exclusively to Manor Kitchen Experience guests. If you’d like to enquire about adding an overnight stay\, please email us at info@ladysmithmanor.com and we’ll be happy to confirm availability — the perfect way to let the evening unfold without any rush home. \n\n____________________________________________________\n\n\nSaturday 12th September 2026\n\n\n5pm – 8pm (Please arrive about 10 mins before 5pm)\n\n\n$95 per person + HST\n\n\nSpaces are limited to 6 per experience and booking is required.\n\n\nPlease note: we do not offer a gluten free\, vegan\, dairy free or other dietary option at our Manor Kitchen Experiences\n\n\nRead more about our  Manor Kitchen Experiences here!\n\n\n(Please note\, if you are having trouble seeing all the booking information on your phone\, please try turning your phone sideways. We are aware of the problem and are working to get it fixed. We apologize for any inconvenience)
URL:https://ladysmithmanor.com/event/pasta-with-the-chef-sat-12th-sept-2026/
LOCATION:Lady Smith Manor\, 22 Woodlawn Rd\,\, Dorchester\, NB\, E4K 3A8\, Canada
CATEGORIES:Manor Kitchen Experience,Pasta With The Chef,Specialty Events
ATTACH;FMTTYPE=image/png:https://ladysmithmanor.com/wp-content/uploads/2026/01/Pasta-With-the-Chef-GRaphic.png
ORGANIZER;CN="Lady Smith Manor":MAILTO:info@ladysmithmanor.com
END:VEVENT
BEGIN:VEVENT
DTSTART;TZID=America/Halifax:20260919T150000
DTEND;TZID=America/Halifax:20260919T170000
DTSTAMP:20260423T042429
CREATED:20251023T232733Z
LAST-MODIFIED:20260419T144025Z
UID:10000108-1789830000-1789837200@ladysmithmanor.com
SUMMARY:Harry Potter Afternoon Tea - Sat 19th September 2026
DESCRIPTION:Enjoy a spellbinding Afternoon Tea surrounded by the history and enchantment of Lady Smith Manor — where every teacup holds a touch of magic and every bite feels like a charm. \nFeast on warm scones piled high with berry jam and clotted cream\, miniature cakes swirled with buttercream\, rich chocolate bites worthy of Honeydukes\, and strawberries dipped in silky dark chocolate… all perfectly paired with cups of freshly brewed tea served from our enchanted teapots. ☕🪄 \nSettle in at your own magical tea table dressed in vintage linens\, silver cutlery\, and antique glass cruets filled with fresh flowers — the perfect backdrop for a truly whimsical afternoon. \nCapture the moment in our Wizarding Photo Booth\, and watch smiles appear faster than a flick of a wand as you share laughter and treats in this one-of-a-kind experience. \nWhether you’re a proud Gryffindor\, clever Ravenclaw\, loyal Hufflepuff\, or cunning Slytherin\, this is your invitation to step through the doors of the Manor and into the Wizarding World. \nA magical celebration of friendship\, wonder\, and Afternoon Tea — the perfect escape for witches\, wizards\, and muggles alike! \n____________________________________________________\n\n\nSaturday 19th September 2026\n\n\n3pm – 5pm (Please arrive for 3pm)\n\n\n$35 per person + HST\n\n\nTables are limited.\n\n\nMinimum 2 people and maximum 6 people per table.\n\n\nPlease note: we do not offer a gluten free\, vegan\, dairy free or other dietary option at our Afternoon Teas\n\nRead more about our  Afternoon Teas here!
URL:https://ladysmithmanor.com/event/harry-potter-afternoon-tea-sat-19th-sept-2026/
LOCATION:Lady Smith Manor\, 22 Woodlawn Rd\,\, Dorchester\, NB\, E4K 3A8\, Canada
CATEGORIES:Afternoon Tea,Harry Potter,Specialty Events
ATTACH;FMTTYPE=image/jpeg:https://ladysmithmanor.com/wp-content/uploads/2025/10/Harry-Potter-Afternoon-Tea-Square.jpg
ORGANIZER;CN="Lady Smith Manor":MAILTO:info@ladysmithmanor.com
END:VEVENT
BEGIN:VEVENT
DTSTART;TZID=America/Halifax:20260920T150000
DTEND;TZID=America/Halifax:20260920T170000
DTSTAMP:20260423T042429
CREATED:20251023T233014Z
LAST-MODIFIED:20251023T233014Z
UID:10000109-1789916400-1789923600@ladysmithmanor.com
SUMMARY:Harry Potter Afternoon Tea - Sun 20th September 2026
DESCRIPTION:Enjoy a spellbinding Afternoon Tea surrounded by the history and enchantment of Lady Smith Manor — where every teacup holds a touch of magic and every bite feels like a charm. \nFeast on warm scones piled high with berry jam and clotted cream\, miniature cakes swirled with buttercream\, rich chocolate bites worthy of Honeydukes\, and strawberries dipped in silky dark chocolate… all perfectly paired with cups of freshly brewed tea served from our enchanted teapots. ☕🪄 \nSettle in at your own magical tea table dressed in vintage linens\, silver cutlery\, and antique glass cruets filled with fresh flowers — the perfect backdrop for a truly whimsical afternoon. \nCapture the moment in our Wizarding Photo Booth\, and watch smiles appear faster than a flick of a wand as you share laughter and treats in this one-of-a-kind experience. \nWhether you’re a proud Gryffindor\, clever Ravenclaw\, loyal Hufflepuff\, or cunning Slytherin\, this is your invitation to step through the doors of the Manor and into the Wizarding World. \nA magical celebration of friendship\, wonder\, and Afternoon Tea — the perfect escape for witches\, wizards\, and muggles alike! \n____________________________________________________\n\n\nSunday 20th September 2026\n\n\n3pm – 5pm (Please arrive for 3pm)\n\n\n$35 per person + HST\n\n\nTables are limited.\n\n\nMinimum 2 people and maximum 6 people per table.\n\n\nPlease note: we do not offer a gluten free\, vegan\, dairy free or other dietary option at our Afternoon Teas\n\nRead more about our  Afternoon Teas here!
URL:https://ladysmithmanor.com/event/harry-potter-afternoon-tea-sun-20th-sept-2026/
LOCATION:Lady Smith Manor\, 22 Woodlawn Rd\,\, Dorchester\, NB\, E4K 3A8\, Canada
CATEGORIES:Afternoon Tea,Harry Potter,Specialty Events
ATTACH;FMTTYPE=image/jpeg:https://ladysmithmanor.com/wp-content/uploads/2025/10/Harry-Potter-Afternoon-Tea-Square.jpg
ORGANIZER;CN="Lady Smith Manor":MAILTO:info@ladysmithmanor.com
END:VEVENT
END:VCALENDAR