BEGIN:VCALENDAR
VERSION:2.0
PRODID:-//Lady Smith Manor - ECPv6.15.20//NONSGML v1.0//EN
CALSCALE:GREGORIAN
METHOD:PUBLISH
X-WR-CALNAME:Lady Smith Manor
X-ORIGINAL-URL:https://ladysmithmanor.com
X-WR-CALDESC:Events for Lady Smith Manor
REFRESH-INTERVAL;VALUE=DURATION:PT1H
X-Robots-Tag:noindex
X-PUBLISHED-TTL:PT1H
BEGIN:VTIMEZONE
TZID:America/Halifax
BEGIN:DAYLIGHT
TZOFFSETFROM:-0400
TZOFFSETTO:-0300
TZNAME:ADT
DTSTART:20240310T060000
END:DAYLIGHT
BEGIN:STANDARD
TZOFFSETFROM:-0300
TZOFFSETTO:-0400
TZNAME:AST
DTSTART:20241103T050000
END:STANDARD
BEGIN:DAYLIGHT
TZOFFSETFROM:-0400
TZOFFSETTO:-0300
TZNAME:ADT
DTSTART:20250309T060000
END:DAYLIGHT
BEGIN:STANDARD
TZOFFSETFROM:-0300
TZOFFSETTO:-0400
TZNAME:AST
DTSTART:20251102T050000
END:STANDARD
BEGIN:DAYLIGHT
TZOFFSETFROM:-0400
TZOFFSETTO:-0300
TZNAME:ADT
DTSTART:20260308T060000
END:DAYLIGHT
BEGIN:STANDARD
TZOFFSETFROM:-0300
TZOFFSETTO:-0400
TZNAME:AST
DTSTART:20261101T050000
END:STANDARD
END:VTIMEZONE
BEGIN:VEVENT
DTSTART;TZID=America/Halifax:20251009T193000
DTEND;TZID=America/Halifax:20251009T213000
DTSTAMP:20260423T210816
CREATED:20250924T220050Z
LAST-MODIFIED:20250924T234424Z
UID:10000076-1760038200-1760045400@ladysmithmanor.com
SUMMARY:Movie Night - Downton Abbey - The Movie | 9th Oct 2025
DESCRIPTION:Grab your drink\, popcorn and a cozy blanket because it’s time for a movie night! Whether you’re a cinephile or just looking for a fun way to unwind\, this event is the perfect opportunity to enjoy a great film in a relaxed and friendly atmosphere.\n\n\nFeature Presentation: Downton Abbey – The Movie\n\n\nSnacks Galore: Popcorn\, Snacks & Drinks will be available (For an additional cost)\n\n\nComfortable Seating: Choose a cozy armchair\, vintage theatre seat or comfy seat in the Pub Lounge.\n\nLet’s share some laughs\, suspense\, and memorable moments together at our cozy evening of cinema!\n\n🎟️ Admission: $5\nSeats are limited and tickets must be purchased in advance.\nLights\, camera\, action—see you there!\n____________________________________________________\n\n\nThursday 9th October 2025\n\n\n7.30pm\n\n\n$5 per person + HST\n\n\nSeats are limited.\n\n\nRead more about our Movie Nights here!
URL:https://ladysmithmanor.com/event/movie-night-downton-abbey-9th-oct-2025/
LOCATION:The Thirsty Whippet Pub\, 22 Woodlawn Road\, Dorchester\, New Brunswick\, E4K 3A8\, Canada
CATEGORIES:Movie Night,The Thirsty Whippet Pub
ATTACH;FMTTYPE=image/jpeg:https://ladysmithmanor.com/wp-content/uploads/2025/09/2-e1758757453419.jpg
ORGANIZER;CN="The Thirsty Whippet Pub":MAILTO:miriam@ladysmithmanor.com
END:VEVENT
BEGIN:VEVENT
DTSTART;TZID=America/Halifax:20251012T150000
DTEND;TZID=America/Halifax:20251012T170000
DTSTAMP:20260423T210816
CREATED:20250110T012512Z
LAST-MODIFIED:20250922T235043Z
UID:10000050-1760281200-1760288400@ladysmithmanor.com
SUMMARY:Secret Book Club | 12th Oct 2025
DESCRIPTION:Join us for a peaceful escape at our Secret Book Club!\nBring your own book\, find a cozy spot\, and immerse yourself in an hour of quiet reading. No discussions\, no pressure—just a calm space to enjoy your story and unwind with fellow book lovers.\nPerfect for introverts\, bookworms\, and anyone in need of some peaceful reading time.\nTickets are only $5—and the best part? You’ll get that $5 back as a credit towards your first drink!  So essentially\, the entry fee is on us.\nSeats are limited and tickets must be purchased in advance.\n\n\n3pm – 3.30pm – Grab a drink & find your seat\n\n\n3.30pm – 4.30pm – Silent Reading\n\n\n4.30pm – 5pm –  Connect with fellow book lovers.\n\n\n____________________________________________________\n\n\nSunday 12th October 2025\n\n\n3.00pm – 5.00pm\n\n\n$5 per person + HST\n\n\nSeats are limited.\n\n\nRead more about our Secret Book Club here!
URL:https://ladysmithmanor.com/event/secret-book-club-12th-oct-2025/
LOCATION:The Thirsty Whippet Pub\, 22 Woodlawn Road\, Dorchester\, New Brunswick\, E4K 3A8\, Canada
CATEGORIES:Book Club,The Thirsty Whippet Pub
ATTACH;FMTTYPE=image/jpeg:https://ladysmithmanor.com/wp-content/uploads/2025/01/Secret-Book-CLub-800x800-1.jpg
ORGANIZER;CN="The Thirsty Whippet Pub":MAILTO:miriam@ladysmithmanor.com
END:VEVENT
BEGIN:VEVENT
DTSTART;TZID=America/Halifax:20251023T193000
DTEND;TZID=America/Halifax:20251023T213000
DTSTAMP:20260423T210816
CREATED:20250924T235105Z
LAST-MODIFIED:20250924T235312Z
UID:10000077-1761247800-1761255000@ladysmithmanor.com
SUMMARY:Movie Night - A Fish Called Wanda | 23rd Oct 2025
DESCRIPTION:Grab your drink\, popcorn and a cozy blanket because it’s time for a movie night! Whether you’re a cinephile or just looking for a fun way to unwind\, this event is the perfect opportunity to enjoy a great film in a relaxed and friendly atmosphere.\n\n\nFeature Presentation: A Fish Called Wanda\n\n\nSnacks Galore: Popcorn\, Snacks & Drinks will be available (For an additional cost)\n\n\nComfortable Seating: Choose a cozy armchair\, vintage theatre seat or comfy seat in the Pub Lounge.\n\n\nLet’s share some laughs\, suspense\, and memorable moments together at our cozy evening of cinema!\n🎟️ Admission: $5\nSeats are limited and tickets must be purchased in advance.\nLights\, camera\, action—see you there!\n____________________________________________________\n\n\nThursday 23rd October 2025\n\n\n7.30pm\n\n\n$5 per person + HST\n\n\nSeats are limited.\n\n\nRead more about our Movie Nights here!
URL:https://ladysmithmanor.com/event/movie-night-a-fish-called-wanda/
LOCATION:The Thirsty Whippet Pub\, 22 Woodlawn Road\, Dorchester\, New Brunswick\, E4K 3A8\, Canada
CATEGORIES:Movie Night,The Thirsty Whippet Pub
ATTACH;FMTTYPE=image/jpeg:https://ladysmithmanor.com/wp-content/uploads/2025/09/3-e1758758020528.jpg
ORGANIZER;CN="The Thirsty Whippet Pub":MAILTO:miriam@ladysmithmanor.com
END:VEVENT
BEGIN:VEVENT
DTSTART;TZID=America/Halifax:20251026T150000
DTEND;TZID=America/Halifax:20251026T170000
DTSTAMP:20260423T210816
CREATED:20251002T203408Z
LAST-MODIFIED:20251009T152231Z
UID:10000082-1761490800-1761498000@ladysmithmanor.com
SUMMARY:The Stitched Whippet Society | 26th Oct 2025
DESCRIPTION:✨ The Stitched Whippet Society ✨ \nJoin us at the Thirsty Whippet Pub for a monthly gathering of fibre art lovers! Whether you’re into rug hooking\, knitting\, cross-stitch\, or any other fibre craft\, this is your chance to bring along your project\, relax with a drink\, and enjoy an afternoon of creativity and connection. \nTickets are $5 per person and must be booked in advance. Your ticket reserves your seat\, and the full amount will be applied as a discount on your first drink purchase. 🍻🧶 \nWhat to Expect ✨\nSettle in with a drink\, pull out your latest project\, and enjoy a cozy afternoon surrounded by fellow makers. This is a relaxed\, social space to stitch\, chat\, and share inspiration — whether you’re rug hooking\, knitting\, cross-stitching or working on another project . 🐾 \n\n\nNeed to Know 🧶\n\n🎟️ Tickets are $5 per person (applied as a discount on your first drink).\n🪡 Please bring your own materials/projects — this is a social stitching circle\, not a workshop.\n🍻 Drinks & pub food will be available for purchase at the bar.\n👥 Open to all skill levels — from beginners to seasoned makers.\n🧵  In Summer 2026 we’ll be collaborating with the St. James Textile Museum\, bringing you special workshops and fibre-inspired events alongside our regular gatherings.\n⏳ Spaces are limited and must be booked in advance.\n\n____________________________________________________\n\n\nSunday 26th October 2025\n\n\n3.00pm – 5.00pm\n\n\n$5 per person + HST\n\n\nSeats are limited.\n\n\nFind out more about The Stitched Whippet Society here!
URL:https://ladysmithmanor.com/event/the-stitched-whippet-society-26th-oct-2025/
LOCATION:The Thirsty Whippet Pub\, 22 Woodlawn Road\, Dorchester\, New Brunswick\, E4K 3A8\, Canada
CATEGORIES:The Stitched Whippet Society,The Thirsty Whippet Pub
ATTACH;FMTTYPE=image/jpeg:https://ladysmithmanor.com/wp-content/uploads/2025/10/The-Stitched-Whippet-800-x-800-px.jpg
ORGANIZER;CN="The Thirsty Whippet Pub":MAILTO:miriam@ladysmithmanor.com
END:VEVENT
END:VCALENDAR