BEGIN:VCALENDAR
VERSION:2.0
PRODID:-//Lady Smith Manor - ECPv6.15.20//NONSGML v1.0//EN
CALSCALE:GREGORIAN
METHOD:PUBLISH
X-ORIGINAL-URL:https://ladysmithmanor.com
X-WR-CALDESC:Events for Lady Smith Manor
REFRESH-INTERVAL;VALUE=DURATION:PT1H
X-Robots-Tag:noindex
X-PUBLISHED-TTL:PT1H
BEGIN:VTIMEZONE
TZID:America/Halifax
BEGIN:DAYLIGHT
TZOFFSETFROM:-0400
TZOFFSETTO:-0300
TZNAME:ADT
DTSTART:20250309T060000
END:DAYLIGHT
BEGIN:STANDARD
TZOFFSETFROM:-0300
TZOFFSETTO:-0400
TZNAME:AST
DTSTART:20251102T050000
END:STANDARD
BEGIN:DAYLIGHT
TZOFFSETFROM:-0400
TZOFFSETTO:-0300
TZNAME:ADT
DTSTART:20260308T060000
END:DAYLIGHT
BEGIN:STANDARD
TZOFFSETFROM:-0300
TZOFFSETTO:-0400
TZNAME:AST
DTSTART:20261101T050000
END:STANDARD
BEGIN:DAYLIGHT
TZOFFSETFROM:-0400
TZOFFSETTO:-0300
TZNAME:ADT
DTSTART:20270314T060000
END:DAYLIGHT
BEGIN:STANDARD
TZOFFSETFROM:-0300
TZOFFSETTO:-0400
TZNAME:AST
DTSTART:20271107T050000
END:STANDARD
END:VTIMEZONE
BEGIN:VEVENT
DTSTART;TZID=America/Halifax:20260426T140000
DTEND;TZID=America/Halifax:20260426T170000
DTSTAMP:20260423T000555
CREATED:20251005T155709Z
LAST-MODIFIED:20251026T205956Z
UID:10000087-1777212000-1777222800@ladysmithmanor.com
SUMMARY:The Stitched Whippet Society | 26th April 2026
DESCRIPTION:✨ The Stitched Whippet Society ✨ \nJoin us at the Thirsty Whippet Pub for a monthly gathering of fibre art lovers! Whether you’re into rug hooking\, knitting\, cross-stitch\, or any other fibre craft\, this is your chance to bring along your project\, relax with a drink\, and enjoy an afternoon of creativity and connection. \nTickets are $5 per person and must be booked in advance. Your ticket reserves your seat\, and the full amount will be applied as a discount on your first drink purchase. 🍻🧶 \nWhat to Expect ✨\nSettle in with a drink\, pull out your latest project\, and enjoy a cozy afternoon surrounded by fellow makers. This is a relaxed\, social space to stitch\, chat\, and share inspiration — whether you’re rug hooking\, knitting\, cross-stitching or working on another project . 🐾 \n\n\nNeed to Know 🧶\n\n🎟️ Tickets are $5 per person (applied as a discount on your first drink).\n🪡 Please bring your own materials/projects — this is a social stitching circle\, not a workshop.\n🍻 Drinks & pub food will be available for purchase at the bar.\n👥 Open to all skill levels — from beginners to seasoned makers.\n🧵  In Summer 2026 we’ll be collaborating with the St. James Textile Museum\, bringing you special workshops and fibre-inspired events alongside our regular gatherings.\n⏳ Spaces are limited and must be booked in advance.\n\n____________________________________________________\n\n\nSunday 26th April 2026\n\n\n2.00pm – 5.00pm\n\n\n$5 per person + HST\n\n\nSeats are limited.\n\n\nFind out more about The Stitched Whippet Society here!\n\n\n 
URL:https://ladysmithmanor.com/event/the-stitched-whippet-society-26th-april-2026/
LOCATION:The Thirsty Whippet Pub\, 22 Woodlawn Road\, Dorchester\, New Brunswick\, E4K 3A8\, Canada
CATEGORIES:The Stitched Whippet Society,The Thirsty Whippet Pub
ATTACH;FMTTYPE=image/jpeg:https://ladysmithmanor.com/wp-content/uploads/2025/10/The-Stitched-Whippet-800-x-800-px.jpg
ORGANIZER;CN="The Thirsty Whippet Pub":MAILTO:miriam@ladysmithmanor.com
END:VEVENT
END:VCALENDAR