BEGIN:VCALENDAR
VERSION:2.0
PRODID:-//Lady Smith Manor - ECPv6.15.20//NONSGML v1.0//EN
CALSCALE:GREGORIAN
METHOD:PUBLISH
X-WR-CALNAME:Lady Smith Manor
X-ORIGINAL-URL:https://ladysmithmanor.com
X-WR-CALDESC:Events for Lady Smith Manor
REFRESH-INTERVAL;VALUE=DURATION:PT1H
X-Robots-Tag:noindex
X-PUBLISHED-TTL:PT1H
BEGIN:VTIMEZONE
TZID:America/Halifax
BEGIN:DAYLIGHT
TZOFFSETFROM:-0400
TZOFFSETTO:-0300
TZNAME:ADT
DTSTART:20240310T060000
END:DAYLIGHT
BEGIN:STANDARD
TZOFFSETFROM:-0300
TZOFFSETTO:-0400
TZNAME:AST
DTSTART:20241103T050000
END:STANDARD
BEGIN:DAYLIGHT
TZOFFSETFROM:-0400
TZOFFSETTO:-0300
TZNAME:ADT
DTSTART:20250309T060000
END:DAYLIGHT
BEGIN:STANDARD
TZOFFSETFROM:-0300
TZOFFSETTO:-0400
TZNAME:AST
DTSTART:20251102T050000
END:STANDARD
BEGIN:DAYLIGHT
TZOFFSETFROM:-0400
TZOFFSETTO:-0300
TZNAME:ADT
DTSTART:20260308T060000
END:DAYLIGHT
BEGIN:STANDARD
TZOFFSETFROM:-0300
TZOFFSETTO:-0400
TZNAME:AST
DTSTART:20261101T050000
END:STANDARD
BEGIN:DAYLIGHT
TZOFFSETFROM:-0400
TZOFFSETTO:-0300
TZNAME:ADT
DTSTART:20270314T060000
END:DAYLIGHT
BEGIN:STANDARD
TZOFFSETFROM:-0300
TZOFFSETTO:-0400
TZNAME:AST
DTSTART:20271107T050000
END:STANDARD
END:VTIMEZONE
BEGIN:VEVENT
DTSTART;TZID=America/Halifax:20260412T150000
DTEND;TZID=America/Halifax:20260412T170000
DTSTAMP:20260422T190143
CREATED:20251022T184528Z
LAST-MODIFIED:20251022T184528Z
UID:10000099-1776006000-1776013200@ladysmithmanor.com
SUMMARY:Secret Book Club | 12th Apr 2026
DESCRIPTION:Join us for a peaceful escape at our Secret Book Club!\nBring your own book\, find a cozy spot\, and immerse yourself in an hour of quiet reading. No discussions\, no pressure—just a calm space to enjoy your story and unwind with fellow book lovers.\nPerfect for introverts\, bookworms\, and anyone in need of some peaceful reading time.\nTickets are only $5—and the best part? You’ll get that $5 back as a credit towards your first drink!  So essentially\, the entry fee is on us.\nSeats are limited and tickets must be purchased in advance.\n\n\n3pm – 3.30pm – Grab a drink & find your seat\n\n\n3.30pm – 4.30pm – Silent Reading\n\n\n4.30pm – 5pm –  Connect with fellow book lovers.\n\n\n____________________________________________________\n\n\nSunday 12th April 2026\n\n\n3.00pm – 5.00pm\n\n\n$5 per person + HST\n\n\nSeats are limited.\n\n\nRead more about our Secret Book Club here!
URL:https://ladysmithmanor.com/event/secret-book-club-12th-april-2026/
LOCATION:The Thirsty Whippet Pub\, 22 Woodlawn Road\, Dorchester\, New Brunswick\, E4K 3A8\, Canada
CATEGORIES:Book Club,The Thirsty Whippet Pub
ATTACH;FMTTYPE=image/jpeg:https://ladysmithmanor.com/wp-content/uploads/2025/01/Secret-Book-CLub-800x800-1.jpg
ORGANIZER;CN="The Thirsty Whippet Pub":MAILTO:miriam@ladysmithmanor.com
END:VEVENT
BEGIN:VEVENT
DTSTART;TZID=America/Halifax:20260308T150000
DTEND;TZID=America/Halifax:20260308T170000
DTSTAMP:20260422T190143
CREATED:20251022T184309Z
LAST-MODIFIED:20251022T191038Z
UID:10000098-1772982000-1772989200@ladysmithmanor.com
SUMMARY:Secret Book Club | 8th Mar 2026
DESCRIPTION:Join us for a peaceful escape at our Secret Book Club!\nBring your own book\, find a cozy spot\, and immerse yourself in an hour of quiet reading. No discussions\, no pressure—just a calm space to enjoy your story and unwind with fellow book lovers.\nPerfect for introverts\, bookworms\, and anyone in need of some peaceful reading time.\nTickets are only $5—and the best part? You’ll get that $5 back as a credit towards your first drink!  So essentially\, the entry fee is on us.\nSeats are limited and tickets must be purchased in advance.\n\n\n3pm – 3.30pm – Grab a drink & find your seat\n\n\n3.30pm – 4.30pm – Silent Reading\n\n\n4.30pm – 5pm –  Connect with fellow book lovers.\n\n\n____________________________________________________\n\n\nSunday 8th March 2026\n\n\n3.00pm – 5.00pm\n\n\n$5 per person + HST\n\n\nSeats are limited.\n\n\nRead more about our Secret Book Club here!
URL:https://ladysmithmanor.com/event/secret-book-club-8th-mar-2026/
LOCATION:The Thirsty Whippet Pub\, 22 Woodlawn Road\, Dorchester\, New Brunswick\, E4K 3A8\, Canada
CATEGORIES:Book Club,The Thirsty Whippet Pub
ATTACH;FMTTYPE=image/jpeg:https://ladysmithmanor.com/wp-content/uploads/2025/01/Secret-Book-CLub-800x800-1.jpg
ORGANIZER;CN="The Thirsty Whippet Pub":MAILTO:miriam@ladysmithmanor.com
END:VEVENT
BEGIN:VEVENT
DTSTART;TZID=America/Halifax:20260111T150000
DTEND;TZID=America/Halifax:20260111T170000
DTSTAMP:20260422T190143
CREATED:20251022T183914Z
LAST-MODIFIED:20251022T183914Z
UID:10000097-1768143600-1768150800@ladysmithmanor.com
SUMMARY:Secret Book Club | 11th Jan 2026
DESCRIPTION:Join us for a peaceful escape at our Secret Book Club!\nBring your own book\, find a cozy spot\, and immerse yourself in an hour of quiet reading. No discussions\, no pressure—just a calm space to enjoy your story and unwind with fellow book lovers.\nPerfect for introverts\, bookworms\, and anyone in need of some peaceful reading time.\nTickets are only $5—and the best part? You’ll get that $5 back as a credit towards your first drink!  So essentially\, the entry fee is on us.\nSeats are limited and tickets must be purchased in advance.\n\n\n3pm – 3.30pm – Grab a drink & find your seat\n\n\n3.30pm – 4.30pm – Silent Reading\n\n\n4.30pm – 5pm –  Connect with fellow book lovers.\n\n\n____________________________________________________\n\n\nSunday 11th January 2026\n\n\n3.00pm – 5.00pm\n\n\n$5 per person + HST\n\n\nSeats are limited.\n\n\nRead more about our Secret Book Club here!
URL:https://ladysmithmanor.com/event/secret-book-club-11th-jan-2026/
LOCATION:The Thirsty Whippet Pub\, 22 Woodlawn Road\, Dorchester\, New Brunswick\, E4K 3A8\, Canada
CATEGORIES:Book Club,The Thirsty Whippet Pub
ATTACH;FMTTYPE=image/jpeg:https://ladysmithmanor.com/wp-content/uploads/2025/01/Secret-Book-CLub-800x800-1.jpg
ORGANIZER;CN="The Thirsty Whippet Pub":MAILTO:miriam@ladysmithmanor.com
END:VEVENT
BEGIN:VEVENT
DTSTART;TZID=America/Halifax:20251214T150000
DTEND;TZID=America/Halifax:20251214T170000
DTSTAMP:20260422T190143
CREATED:20250110T013033Z
LAST-MODIFIED:20250110T013033Z
UID:10000052-1765724400-1765731600@ladysmithmanor.com
SUMMARY:Secret Book Club | 14th Dec 2025
DESCRIPTION:Join us for a peaceful escape at our Secret Book Club!\nBring your own book\, find a cozy spot\, and immerse yourself in an hour of quiet reading. No discussions\, no pressure—just a calm space to enjoy your story and unwind with fellow book lovers.\nPerfect for introverts\, bookworms\, and anyone in need of some peaceful reading time.\nTickets are only $5—and the best part? You’ll get that $5 back as a credit towards your first drink!  So essentially\, the entry fee is on us.\nSeats are limited and tickets must be purchased in advance.\n\n\n3pm – 3.30pm – Grab a drink & find your seat\n\n\n3.30pm – 4.30pm – Silent Reading\n\n\n4.30pm – 5pm –  Connect with fellow book lovers.\n\n\n____________________________________________________\n\n\nSunday 14th December 2025\n\n\n3.00pm – 5.00pm\n\n\n$5 per person + HST\n\n\nSeats are limited.\n\n\nRead more about our Secret Book Club here!
URL:https://ladysmithmanor.com/event/secret-book-club-14th-dec-2025/
LOCATION:The Thirsty Whippet Pub\, 22 Woodlawn Road\, Dorchester\, New Brunswick\, E4K 3A8\, Canada
CATEGORIES:Book Club,The Thirsty Whippet Pub
ATTACH;FMTTYPE=image/jpeg:https://ladysmithmanor.com/wp-content/uploads/2025/01/Secret-Book-CLub-800x800-1.jpg
ORGANIZER;CN="The Thirsty Whippet Pub":MAILTO:miriam@ladysmithmanor.com
END:VEVENT
BEGIN:VEVENT
DTSTART;TZID=America/Halifax:20251109T150000
DTEND;TZID=America/Halifax:20251109T170000
DTSTAMP:20260422T190143
CREATED:20250110T012743Z
LAST-MODIFIED:20250110T012743Z
UID:10000051-1762700400-1762707600@ladysmithmanor.com
SUMMARY:Secret Book Club | 9th Nov 2025
DESCRIPTION:Join us for a peaceful escape at our Secret Book Club!\nBring your own book\, find a cozy spot\, and immerse yourself in an hour of quiet reading. No discussions\, no pressure—just a calm space to enjoy your story and unwind with fellow book lovers.\nPerfect for introverts\, bookworms\, and anyone in need of some peaceful reading time.\nTickets are only $5—and the best part? You’ll get that $5 back as a credit towards your first drink!  So essentially\, the entry fee is on us.\nSeats are limited and tickets must be purchased in advance.\n\n\n3pm – 3.30pm – Grab a drink & find your seat\n\n\n3.30pm – 4.30pm – Silent Reading\n\n\n4.30pm – 5pm –  Connect with fellow book lovers.\n\n\n____________________________________________________\n\n\nSunday 9th November 2025\n\n\n3.00pm – 5.00pm\n\n\n$5 per person + HST\n\n\nSeats are limited.\n\n\nRead more about our Secret Book Club here!
URL:https://ladysmithmanor.com/event/secret-book-club-9th-nov-2025/
LOCATION:The Thirsty Whippet Pub\, 22 Woodlawn Road\, Dorchester\, New Brunswick\, E4K 3A8\, Canada
CATEGORIES:Book Club,The Thirsty Whippet Pub
ATTACH;FMTTYPE=image/jpeg:https://ladysmithmanor.com/wp-content/uploads/2025/01/Secret-Book-CLub-800x800-1.jpg
ORGANIZER;CN="The Thirsty Whippet Pub":MAILTO:miriam@ladysmithmanor.com
END:VEVENT
BEGIN:VEVENT
DTSTART;TZID=America/Halifax:20251012T150000
DTEND;TZID=America/Halifax:20251012T170000
DTSTAMP:20260422T190143
CREATED:20250110T012512Z
LAST-MODIFIED:20250922T235043Z
UID:10000050-1760281200-1760288400@ladysmithmanor.com
SUMMARY:Secret Book Club | 12th Oct 2025
DESCRIPTION:Join us for a peaceful escape at our Secret Book Club!\nBring your own book\, find a cozy spot\, and immerse yourself in an hour of quiet reading. No discussions\, no pressure—just a calm space to enjoy your story and unwind with fellow book lovers.\nPerfect for introverts\, bookworms\, and anyone in need of some peaceful reading time.\nTickets are only $5—and the best part? You’ll get that $5 back as a credit towards your first drink!  So essentially\, the entry fee is on us.\nSeats are limited and tickets must be purchased in advance.\n\n\n3pm – 3.30pm – Grab a drink & find your seat\n\n\n3.30pm – 4.30pm – Silent Reading\n\n\n4.30pm – 5pm –  Connect with fellow book lovers.\n\n\n____________________________________________________\n\n\nSunday 12th October 2025\n\n\n3.00pm – 5.00pm\n\n\n$5 per person + HST\n\n\nSeats are limited.\n\n\nRead more about our Secret Book Club here!
URL:https://ladysmithmanor.com/event/secret-book-club-12th-oct-2025/
LOCATION:The Thirsty Whippet Pub\, 22 Woodlawn Road\, Dorchester\, New Brunswick\, E4K 3A8\, Canada
CATEGORIES:Book Club,The Thirsty Whippet Pub
ATTACH;FMTTYPE=image/jpeg:https://ladysmithmanor.com/wp-content/uploads/2025/01/Secret-Book-CLub-800x800-1.jpg
ORGANIZER;CN="The Thirsty Whippet Pub":MAILTO:miriam@ladysmithmanor.com
END:VEVENT
BEGIN:VEVENT
DTSTART;TZID=America/Halifax:20250907T150000
DTEND;TZID=America/Halifax:20250907T170000
DTSTAMP:20260422T190143
CREATED:20250110T012211Z
LAST-MODIFIED:20250110T012211Z
UID:10000049-1757257200-1757264400@ladysmithmanor.com
SUMMARY:Secret Book Club | 7th Sept 2025
DESCRIPTION:Join us for a peaceful escape at our Secret Book Club!\nBring your own book\, find a cozy spot\, and immerse yourself in an hour of quiet reading. No discussions\, no pressure—just a calm space to enjoy your story and unwind with fellow book lovers.\nPerfect for introverts\, bookworms\, and anyone in need of some peaceful reading time.\nTickets are only $5—and the best part? You’ll get that $5 back as a credit towards your first drink!  So essentially\, the entry fee is on us.\nSeats are limited and tickets must be purchased in advance.\n\n\n3pm – 3.30pm – Grab a drink & find your seat\n\n\n3.30pm – 4.30pm – Silent Reading\n\n\n4.30pm – 5pm –  Connect with fellow book lovers.\n\n\n____________________________________________________\n\n\nSunday 7th September 2025\n\n\n3.00pm – 5.00pm\n\n\n$5 per person + HST\n\n\nSeats are limited.\n\n\nRead more about our Secret Book Club here!
URL:https://ladysmithmanor.com/event/secret-book-club-7th-sept-2025/
LOCATION:The Thirsty Whippet Pub\, 22 Woodlawn Road\, Dorchester\, New Brunswick\, E4K 3A8\, Canada
CATEGORIES:Book Club,The Thirsty Whippet Pub
ATTACH;FMTTYPE=image/jpeg:https://ladysmithmanor.com/wp-content/uploads/2025/01/Secret-Book-CLub-800x800-1.jpg
ORGANIZER;CN="The Thirsty Whippet Pub":MAILTO:miriam@ladysmithmanor.com
END:VEVENT
BEGIN:VEVENT
DTSTART;TZID=America/Halifax:20250810T150000
DTEND;TZID=America/Halifax:20250810T170000
DTSTAMP:20260422T190143
CREATED:20250110T011840Z
LAST-MODIFIED:20250110T011840Z
UID:10000048-1754838000-1754845200@ladysmithmanor.com
SUMMARY:Secret Book Club | 10th August 2025
DESCRIPTION:Join us for a peaceful escape at our Secret Book Club!\nBring your own book\, find a cozy spot\, and immerse yourself in an hour of quiet reading. No discussions\, no pressure—just a calm space to enjoy your story and unwind with fellow book lovers.\nPerfect for introverts\, bookworms\, and anyone in need of some peaceful reading time.\nTickets are only $5—and the best part? You’ll get that $5 back as a credit towards your first drink!  So essentially\, the entry fee is on us.\nSeats are limited and tickets must be purchased in advance.\n\n\n3pm – 3.30pm – Grab a drink & find your seat\n\n\n3.30pm – 4.30pm – Silent Reading\n\n\n4.30pm – 5pm –  Connect with fellow book lovers.\n\n\n____________________________________________________\n\n\nSunday 10th August 2025\n\n\n3.00pm – 5.00pm\n\n\n$5 per person + HST\n\n\nSeats are limited.\n\n\nRead more about our Secret Book Club here!
URL:https://ladysmithmanor.com/event/secret-book-club-10th-august-2025/
LOCATION:The Thirsty Whippet Pub\, 22 Woodlawn Road\, Dorchester\, New Brunswick\, E4K 3A8\, Canada
CATEGORIES:Book Club,The Thirsty Whippet Pub
ATTACH;FMTTYPE=image/jpeg:https://ladysmithmanor.com/wp-content/uploads/2025/01/Secret-Book-CLub-800x800-1.jpg
ORGANIZER;CN="The Thirsty Whippet Pub":MAILTO:miriam@ladysmithmanor.com
END:VEVENT
BEGIN:VEVENT
DTSTART;TZID=America/Halifax:20250713T150000
DTEND;TZID=America/Halifax:20250713T170000
DTSTAMP:20260422T190143
CREATED:20250110T011556Z
LAST-MODIFIED:20250110T011556Z
UID:10000047-1752418800-1752426000@ladysmithmanor.com
SUMMARY:Secret Book Club | 13th July 2025
DESCRIPTION:Join us for a peaceful escape at our Secret Book Club!\nBring your own book\, find a cozy spot\, and immerse yourself in an hour of quiet reading. No discussions\, no pressure—just a calm space to enjoy your story and unwind with fellow book lovers.\nPerfect for introverts\, bookworms\, and anyone in need of some peaceful reading time.\nTickets are only $5—and the best part? You’ll get that $5 back as a credit towards your first drink!  So essentially\, the entry fee is on us.\nSeats are limited and tickets must be purchased in advance.\n\n\n3pm – 3.30pm – Grab a drink & find your seat\n\n\n3.30pm – 4.30pm – Silent Reading\n\n\n4.30pm – 5pm –  Connect with fellow book lovers.\n\n\n____________________________________________________\n\n\nSunday 13th July 2025\n\n\n3.00pm – 5.00pm\n\n\n$5 per person + HST\n\n\nSeats are limited.\n\n\nRead more about our Secret Book Club here!
URL:https://ladysmithmanor.com/event/secret-book-club-13th-july-2025/
LOCATION:The Thirsty Whippet Pub\, 22 Woodlawn Road\, Dorchester\, New Brunswick\, E4K 3A8\, Canada
CATEGORIES:Book Club,The Thirsty Whippet Pub
ATTACH;FMTTYPE=image/jpeg:https://ladysmithmanor.com/wp-content/uploads/2025/01/Secret-Book-CLub-800x800-1.jpg
ORGANIZER;CN="The Thirsty Whippet Pub":MAILTO:miriam@ladysmithmanor.com
END:VEVENT
BEGIN:VEVENT
DTSTART;TZID=America/Halifax:20250608T150000
DTEND;TZID=America/Halifax:20250608T170000
DTSTAMP:20260422T190143
CREATED:20250104T210527Z
LAST-MODIFIED:20250201T231049Z
UID:10000046-1749394800-1749402000@ladysmithmanor.com
SUMMARY:Secret Book Club | 8th June 2025
DESCRIPTION:Join us for a peaceful escape at our Secret Book Club!\nBring your own book\, find a cozy spot\, and immerse yourself in an hour of quiet reading. No discussions\, no pressure—just a calm space to enjoy your story and unwind with fellow book lovers.\nPerfect for introverts\, bookworms\, and anyone in need of some peaceful reading time.\nTickets are only $5—and the best part? You’ll get that $5 back as a credit towards your first drink!  So essentially\, the entry fee is on us.\nSeats are limited and tickets must be purchased in advance.\n\n\n3pm – 3.30pm – Grab a drink & find your seat\n\n\n3.30pm – 4.30pm – Silent Reading\n\n\n4.30pm – 5pm –  Connect with fellow book lovers.\n\n\n____________________________________________________\n\n\nSunday 8th June 2025\n\n\n3.00pm – 5.00pm\n\n\n$5 per person + HST\n\n\nSeats are limited.\n\n\nRead more about our Secret Book Club here!
URL:https://ladysmithmanor.com/event/secret-book-club-8th-june-2025/
LOCATION:The Thirsty Whippet Pub\, 22 Woodlawn Road\, Dorchester\, New Brunswick\, E4K 3A8\, Canada
CATEGORIES:Book Club,The Thirsty Whippet Pub
ATTACH;FMTTYPE=image/jpeg:https://ladysmithmanor.com/wp-content/uploads/2025/01/Secret-Book-CLub-800x800-1.jpg
ORGANIZER;CN="The Thirsty Whippet Pub":MAILTO:miriam@ladysmithmanor.com
END:VEVENT
BEGIN:VEVENT
DTSTART;TZID=America/Halifax:20250504T150000
DTEND;TZID=America/Halifax:20250504T170000
DTSTAMP:20260422T190143
CREATED:20250104T210129Z
LAST-MODIFIED:20250201T230827Z
UID:10000045-1746370800-1746378000@ladysmithmanor.com
SUMMARY:Secret Book Club | 4th May 2025
DESCRIPTION:Join us for a peaceful escape at our Secret Book Club!\nBring your own book\, find a cozy spot\, and immerse yourself in an hour of quiet reading. No discussions\, no pressure—just a calm space to enjoy your story and unwind with fellow book lovers.\nPerfect for introverts\, bookworms\, and anyone in need of some peaceful reading time.\nTickets are only $5—and the best part? You’ll get that $5 back as a credit towards your first drink!  So essentially\, the entry fee is on us.\nSeats are limited and tickets must be purchased in advance.\n\n\n3pm – 3.30pm – Grab a drink & find your seat\n\n\n3.30pm – 4.30pm – Silent Reading\n\n\n4.30pm – 5pm –  Connect with fellow book lovers.\n\n\n____________________________________________________\n\n\nSunday 4th May 2025\n\n\n3.00pm – 5.00pm\n\n\n$5 per person + HST\n\n\nSeats are limited.\n\n\nRead more about our Secret Book Club here!
URL:https://ladysmithmanor.com/event/secret-book-club-4th-may-2025/
LOCATION:The Thirsty Whippet Pub\, 22 Woodlawn Road\, Dorchester\, New Brunswick\, E4K 3A8\, Canada
CATEGORIES:Book Club,The Thirsty Whippet Pub
ATTACH;FMTTYPE=image/jpeg:https://ladysmithmanor.com/wp-content/uploads/2025/01/Secret-Book-CLub-800x800-1.jpg
ORGANIZER;CN="The Thirsty Whippet Pub":MAILTO:miriam@ladysmithmanor.com
END:VEVENT
BEGIN:VEVENT
DTSTART;TZID=America/Halifax:20250413T150000
DTEND;TZID=America/Halifax:20250413T170000
DTSTAMP:20260422T190143
CREATED:20250104T003117Z
LAST-MODIFIED:20250201T230449Z
UID:10000044-1744556400-1744563600@ladysmithmanor.com
SUMMARY:Secret Book Club | 13th April 2025
DESCRIPTION:Join us for a peaceful escape at our Secret Book Club!\nBring your own book\, find a cozy spot\, and immerse yourself in an hour of quiet reading. No discussions\, no pressure—just a calm space to enjoy your story and unwind with fellow book lovers.\nPerfect for introverts\, bookworms\, and anyone in need of some peaceful reading time.\nTickets are only $5—and the best part? You’ll get that $5 back as a credit towards your first drink!  So essentially\, the entry fee is on us.\nSeats are limited and tickets must be purchased in advance.\n\n\n3pm – 3.30pm – Grab a drink & find your seat\n\n\n3.30pm – 4.30pm – Silent Reading\n\n\n4.30pm – 5pm –  Connect with fellow book lovers.\n\n\n____________________________________________________\n\n\nSunday 13th April 2025\n\n\n3.00pm – 5.00pm\n\n\n$5 per person + HST\n\n\nSeats are limited.\n\n\nRead more about our Secret Book Club here!
URL:https://ladysmithmanor.com/event/secret-book-club-13th-apr-2025/
LOCATION:The Thirsty Whippet Pub\, 22 Woodlawn Road\, Dorchester\, New Brunswick\, E4K 3A8\, Canada
CATEGORIES:Book Club,The Thirsty Whippet Pub
ATTACH;FMTTYPE=image/jpeg:https://ladysmithmanor.com/wp-content/uploads/2025/01/Secret-Book-CLub-800x800-1.jpg
ORGANIZER;CN="The Thirsty Whippet Pub":MAILTO:miriam@ladysmithmanor.com
END:VEVENT
BEGIN:VEVENT
DTSTART;TZID=America/Halifax:20250309T150000
DTEND;TZID=America/Halifax:20250309T170000
DTSTAMP:20260422T190143
CREATED:20250104T002303Z
LAST-MODIFIED:20250201T230123Z
UID:10000043-1741532400-1741539600@ladysmithmanor.com
SUMMARY:Secret Book Club | 9th Mar 2025
DESCRIPTION:Join us for a peaceful escape at our Secret Book Club!\nBring your own book\, find a cozy spot\, and immerse yourself in an hour of quiet reading. No discussions\, no pressure—just a calm space to enjoy your story and unwind with fellow book lovers.\nPerfect for introverts\, bookworms\, and anyone in need of some peaceful reading time.\nTickets are only $5—and the best part? You’ll get that $5 back as a credit towards your first drink!  So essentially\, the entry fee is on us.\nSeats are limited and tickets must be purchased in advance.\n\n\n3pm – 3.30pm – Grab a drink & find your seat\n\n\n3.30pm – 4.30pm – Silent Reading\n\n\n4.30pm – 5pm –  Connect with fellow book lovers.\n\n\n____________________________________________________\n\n\nSunday 9th March 2025\n\n\n3.00pm – 5.00pm\n\n\n$5 per person + HST\n\n\nSeats are limited.\n\n\nRead more about our Secret Book Club here!
URL:https://ladysmithmanor.com/event/secret-book-club-9th-mar-2025/
LOCATION:The Thirsty Whippet Pub\, 22 Woodlawn Road\, Dorchester\, New Brunswick\, E4K 3A8\, Canada
CATEGORIES:Book Club,The Thirsty Whippet Pub
ATTACH;FMTTYPE=image/jpeg:https://ladysmithmanor.com/wp-content/uploads/2025/01/Secret-Book-CLub-800x800-1.jpg
ORGANIZER;CN="The Thirsty Whippet Pub":MAILTO:miriam@ladysmithmanor.com
END:VEVENT
BEGIN:VEVENT
DTSTART;TZID=America/Halifax:20250209T150000
DTEND;TZID=America/Halifax:20250209T170000
DTSTAMP:20260422T190143
CREATED:20250103T224950Z
LAST-MODIFIED:20250103T224950Z
UID:10000042-1739113200-1739120400@ladysmithmanor.com
SUMMARY:Secret Book Club | 9th Feb 2025
DESCRIPTION:Join us for a peaceful escape at our Secret Book Club!\nBring your own book\, find a cozy spot\, and immerse yourself in an hour of quiet reading. No discussions\, no pressure—just a calm space to enjoy your story and unwind with fellow book lovers.\nPerfect for introverts\, bookworms\, and anyone in need of some peaceful reading time.\nTickets are only $5—and the best part? You’ll get that $5 back as a credit towards your first drink!  So essentially\, the entry fee is on us.\nSeats are limited and tickets must be purchased in advance.\n\n\n3pm – 3.30pm – Grab a drink & find your seat\n\n\n3.30pm – 4.30pm – Silent Reading\n\n\n4.30pm – 5pm –  Connect with fellow book lovers.\n\n\n____________________________________________________\n\n\nSunday 9th February 2025\n\n\n3.00pm – 5.00pm\n\n\n$5 per person + HST\n\n\nSeats are limited.\n\n\nRead more about our Secret Book Club here!
URL:https://ladysmithmanor.com/event/secret-book-club-9th-feb-2025/
LOCATION:The Thirsty Whippet Pub\, 22 Woodlawn Road\, Dorchester\, New Brunswick\, E4K 3A8\, Canada
CATEGORIES:Book Club,The Thirsty Whippet Pub
ATTACH;FMTTYPE=image/jpeg:https://ladysmithmanor.com/wp-content/uploads/2025/01/Secret-Book-CLub-800x800-1.jpg
ORGANIZER;CN="The Thirsty Whippet Pub":MAILTO:miriam@ladysmithmanor.com
END:VEVENT
BEGIN:VEVENT
DTSTART;TZID=America/Halifax:20250112T150000
DTEND;TZID=America/Halifax:20250112T170000
DTSTAMP:20260422T190143
CREATED:20250103T220434Z
LAST-MODIFIED:20250103T220434Z
UID:10000041-1736694000-1736701200@ladysmithmanor.com
SUMMARY:Secret Book Club | 12th Jan 2025
DESCRIPTION:Join us for a peaceful escape at our Secret Book Club!\nBring your own book\, find a cozy spot\, and immerse yourself in an hour of quiet reading. No discussions\, no pressure—just a calm space to enjoy your story and unwind with fellow book lovers.\nPerfect for introverts\, bookworms\, and anyone in need of some peaceful reading time.\nTickets are only $5—and the best part? You’ll get that $5 back as a credit towards your first drink!  So essentially\, the entry fee is on us.\nSeats are limited and tickets must be purchased in advance.\n\n\n3pm – 3.30pm – Grab a drink & find your seat\n\n\n3.30pm – 4.30pm – Silent Reading\n\n\n4.30pm – 5pm –  Connect with fellow book lovers.\n\n\n____________________________________________________\n\n\nSunday 12th January 2025\n\n\n3.00pm – 5.00pm\n\n\n$5 per person + HST\n\n\nSeats are limited.\n\n\nRead more about our Secret Book Club here!
URL:https://ladysmithmanor.com/event/secret-book-club-12th-jan-2025/
LOCATION:The Thirsty Whippet Pub\, 22 Woodlawn Road\, Dorchester\, New Brunswick\, E4K 3A8\, Canada
CATEGORIES:Book Club,The Thirsty Whippet Pub
ATTACH;FMTTYPE=image/jpeg:https://ladysmithmanor.com/wp-content/uploads/2025/01/Secret-Book-CLub-800x800-1.jpg
ORGANIZER;CN="The Thirsty Whippet Pub":MAILTO:miriam@ladysmithmanor.com
END:VEVENT
END:VCALENDAR