BEGIN:VCALENDAR
VERSION:2.0
PRODID:-//Lady Smith Manor - ECPv6.15.20//NONSGML v1.0//EN
CALSCALE:GREGORIAN
METHOD:PUBLISH
X-WR-CALNAME:Lady Smith Manor
X-ORIGINAL-URL:https://ladysmithmanor.com
X-WR-CALDESC:Events for Lady Smith Manor
REFRESH-INTERVAL;VALUE=DURATION:PT1H
X-Robots-Tag:noindex
X-PUBLISHED-TTL:PT1H
BEGIN:VTIMEZONE
TZID:America/Halifax
BEGIN:DAYLIGHT
TZOFFSETFROM:-0400
TZOFFSETTO:-0300
TZNAME:ADT
DTSTART:20250309T060000
END:DAYLIGHT
BEGIN:STANDARD
TZOFFSETFROM:-0300
TZOFFSETTO:-0400
TZNAME:AST
DTSTART:20251102T050000
END:STANDARD
BEGIN:DAYLIGHT
TZOFFSETFROM:-0400
TZOFFSETTO:-0300
TZNAME:ADT
DTSTART:20260308T060000
END:DAYLIGHT
BEGIN:STANDARD
TZOFFSETFROM:-0300
TZOFFSETTO:-0400
TZNAME:AST
DTSTART:20261101T050000
END:STANDARD
BEGIN:DAYLIGHT
TZOFFSETFROM:-0400
TZOFFSETTO:-0300
TZNAME:ADT
DTSTART:20270314T060000
END:DAYLIGHT
BEGIN:STANDARD
TZOFFSETFROM:-0300
TZOFFSETTO:-0400
TZNAME:AST
DTSTART:20271107T050000
END:STANDARD
END:VTIMEZONE
BEGIN:VEVENT
DTSTART;VALUE=DATE:20261114
DTEND;VALUE=DATE:20261116
DTSTAMP:20260423T024837
CREATED:20251219T175915Z
LAST-MODIFIED:20251219T180336Z
UID:10000116-1794614400-1794787199@ladysmithmanor.com
SUMMARY:Lady Smith Manor Christmas Market 2026
DESCRIPTION:Step into the magic of the season at our Christmas Market 2026 at Lady Smith Manor — a festive weekend filled with wonder\, creativity\, and holiday cheer. \nWe invite you to save the dates: Saturday\, November 14 & Sunday\, November 15\, 2026\, and begin the countdown to another unforgettable Christmas experience at the Manor. \nWhile the theme\, full details\, and ticket information will be revealed closer to the event\, you can expect the same enchanting atmosphere\, beautifully curated artisans\, and seasonal magic you’ve come to love. \nMore information — including the theme\, schedule\, and ticket release — will be announced nearer the date. \nFor now\, mark your calendar and get ready to join us once again as the Manor transforms for Christmas. \n📅 November 14 & 15\, 2026📍 Lady Smith Manor \nDetails coming soon. Magic guaranteed. 🎄✨ \n____________________________________________________\n 
URL:https://ladysmithmanor.com/event/christmas-market-2026/
LOCATION:Lady Smith Manor\, 22 Woodlawn Rd\,\, Dorchester\, NB\, E4K 3A8\, Canada
CATEGORIES:Christmas,Christmas 2026,Christmas Market
ATTACH;FMTTYPE=image/png:https://ladysmithmanor.com/wp-content/uploads/2025/12/Christmas-Market-2026-COrrect.png
ORGANIZER;CN="Lady Smith Manor":MAILTO:info@ladysmithmanor.com
END:VEVENT
END:VCALENDAR