BEGIN:VCALENDAR
VERSION:2.0
PRODID:-//Lady Smith Manor - ECPv6.15.20//NONSGML v1.0//EN
CALSCALE:GREGORIAN
METHOD:PUBLISH
X-ORIGINAL-URL:https://ladysmithmanor.com
X-WR-CALDESC:Events for Lady Smith Manor
REFRESH-INTERVAL;VALUE=DURATION:PT1H
X-Robots-Tag:noindex
X-PUBLISHED-TTL:PT1H
BEGIN:VTIMEZONE
TZID:America/Halifax
BEGIN:DAYLIGHT
TZOFFSETFROM:-0400
TZOFFSETTO:-0300
TZNAME:ADT
DTSTART:20250309T060000
END:DAYLIGHT
BEGIN:STANDARD
TZOFFSETFROM:-0300
TZOFFSETTO:-0400
TZNAME:AST
DTSTART:20251102T050000
END:STANDARD
BEGIN:DAYLIGHT
TZOFFSETFROM:-0400
TZOFFSETTO:-0300
TZNAME:ADT
DTSTART:20260308T060000
END:DAYLIGHT
BEGIN:STANDARD
TZOFFSETFROM:-0300
TZOFFSETTO:-0400
TZNAME:AST
DTSTART:20261101T050000
END:STANDARD
BEGIN:DAYLIGHT
TZOFFSETFROM:-0400
TZOFFSETTO:-0300
TZNAME:ADT
DTSTART:20270314T060000
END:DAYLIGHT
BEGIN:STANDARD
TZOFFSETFROM:-0300
TZOFFSETTO:-0400
TZNAME:AST
DTSTART:20271107T050000
END:STANDARD
END:VTIMEZONE
BEGIN:VEVENT
DTSTART;TZID=America/Halifax:20260709T170000
DTEND;TZID=America/Halifax:20260709T200000
DTSTAMP:20260423T024812
CREATED:20260131T185622Z
LAST-MODIFIED:20260131T234231Z
UID:10000125-1783616400-1783627200@ladysmithmanor.com
SUMMARY:Pasta With The Chef - Thurs 9th July 2026
DESCRIPTION:A Manor Kitchen Experience with Chef Laura\nJoin us in the heart of the Manor for an intimate\, hands-on cooking class led by our very own Chef Laura. This relaxed and welcoming experience is all about slowing down\, getting your hands flour-dusted\, and enjoying the simple luxury of cooking — and eating — together. \nWhat to Expect:\nDuring this 3-hour Manor Kitchen Experience\, you’ll: \n\nLearn how to make fresh pasta from scratch\, from dough to shaping\, with step-by-step guidance\nPrepare a fresh\, elevated tomato sauce designed to perfectly complement your pasta\nCook together in the Manor kitchen as your meal comes together\nGather around the table to enjoy the pasta you’ve made\, served family-style with a fresh salad and warm bread\n\n\nIncluded with Your Ticket:\n\n3-hour hands-on cooking experience\nHands-on fresh pasta making from scratch\nFresh\, Fancy Tomato Sauce prepared together\nA shared pasta meal you’ve made\, served with a fresh salad and warm bread\nOne glass of wine or beer\nA very special surprise dessert to finish\n\nThis class is intentionally small\, warm\, and unhurried — perfect for food lovers\, friends\, couples\, or anyone looking for a memorable\, hands-on culinary experience in a beautiful historic setting. \nWant to linger a little longer?\nAfter the meal is shared and the evening begins to wind down\, you are warmly invited to extend the experience with an optional overnight stay in one of our Manor suites. \nA special\, discounted rate of $225 + HST (including breakfast) is offered exclusively to Manor Kitchen Experience guests. If you’d like to enquire about adding an overnight stay\, please email us at info@ladysmithmanor.com and we’ll be happy to confirm availability — the perfect way to let the evening unfold without any rush home. \n\n____________________________________________________\n\n\nThursday 9th July 2026\n\n\n5pm – 8pm (Please arrive about 10 mins before 5pm)\n\n\n$95 per person + HST\n\n\nSpaces are limited to 6 per experience and booking is required.\n\n\nPlease note: we do not offer a gluten free\, vegan\, dairy free or other dietary option at our Manor Kitchen Experiences\n\n\nRead more about our  Manor Kitchen Experiences here!\n\n\n(Please note\, if you are having trouble seeing all the booking information on your phone\, please try turning your phone sideways. We are aware of the problem and are working to get it fixed. We apologize for any inconvenience)
URL:https://ladysmithmanor.com/event/pasta-with-the-chef-thurs-9th-july-2026/
LOCATION:Lady Smith Manor\, 22 Woodlawn Rd\,\, Dorchester\, NB\, E4K 3A8\, Canada
CATEGORIES:Manor Kitchen Experience,Pasta With The Chef,Specialty Events
ATTACH;FMTTYPE=image/png:https://ladysmithmanor.com/wp-content/uploads/2026/01/Pasta-With-the-Chef-GRaphic.png
ORGANIZER;CN="Lady Smith Manor":MAILTO:info@ladysmithmanor.com
END:VEVENT
BEGIN:VEVENT
DTSTART;TZID=America/Halifax:20260712T150000
DTEND;TZID=America/Halifax:20260712T170000
DTSTAMP:20260423T024812
CREATED:20251022T185153Z
LAST-MODIFIED:20251022T185153Z
UID:10000100-1783868400-1783875600@ladysmithmanor.com
SUMMARY:Secret Book Club | 12th July 2026
DESCRIPTION:Join us for a peaceful escape at our Secret Book Club!\nBring your own book\, find a cozy spot\, and immerse yourself in an hour of quiet reading. No discussions\, no pressure—just a calm space to enjoy your story and unwind with fellow book lovers.\nPerfect for introverts\, bookworms\, and anyone in need of some peaceful reading time.\nTickets are only $5—and the best part? You’ll get that $5 back as a credit towards your first drink!  So essentially\, the entry fee is on us.\nSeats are limited and tickets must be purchased in advance.\n\n\n3pm – 3.30pm – Grab a drink & find your seat\n\n\n3.30pm – 4.30pm – Silent Reading\n\n\n4.30pm – 5pm –  Connect with fellow book lovers.\n\n\n____________________________________________________\n\n\nSunday 12th July 2026\n\n\n3.00pm – 5.00pm\n\n\n$5 per person + HST\n\n\nSeats are limited.\n\n\nRead more about our Secret Book Club here!
URL:https://ladysmithmanor.com/event/secret-book-club-12th-july-2026/
LOCATION:The Thirsty Whippet Pub\, 22 Woodlawn Road\, Dorchester\, New Brunswick\, E4K 3A8\, Canada
CATEGORIES:Book Club,The Thirsty Whippet Pub
ATTACH;FMTTYPE=image/jpeg:https://ladysmithmanor.com/wp-content/uploads/2025/01/Secret-Book-CLub-800x800-1.jpg
ORGANIZER;CN="The Thirsty Whippet Pub":MAILTO:miriam@ladysmithmanor.com
END:VEVENT
BEGIN:VEVENT
DTSTART;VALUE=DATE:20260718
DTEND;VALUE=DATE:20260720
DTSTAMP:20260423T024812
CREATED:20251219T181029Z
LAST-MODIFIED:20251219T181029Z
UID:10000117-1784332800-1784505599@ladysmithmanor.com
SUMMARY:Lady Smith Manor Summer Market 2026
DESCRIPTION:Celebrate the season at our Lady Smith Manor Summer Market 2026\, where sunshine\, creativity\, and a vibrant market atmosphere come together for a weekend to remember. \nBe sure to save the dates: Saturday\, July 18 & Sunday\, July 19\, 2026\, and look forward to another beautifully curated market experience at the Manor. \nWhile the theme\, full details\, and ticket information will be announced closer to the event\, you can expect a lively summer setting\, talented local artisans\, and plenty of reasons to linger and enjoy the day. \nMore information — including the theme\, schedule\, and ticket release — will be shared nearer the date. For now\, mark your calendar and start dreaming of a perfect summer weekend at the Manor. \n📅 July 18 & 19\, 2026📍 Lady Smith Manor \nDetails coming soon. Summer magic awaits. ✨ \n____________________________________________________ \n 
URL:https://ladysmithmanor.com/event/lady-smith-manor-summer-market-2026/
LOCATION:Lady Smith Manor\, 22 Woodlawn Rd\,\, Dorchester\, NB\, E4K 3A8\, Canada
CATEGORIES:Summer Market
ATTACH;FMTTYPE=image/png:https://ladysmithmanor.com/wp-content/uploads/2025/12/Summer-Market-2026.png
ORGANIZER;CN="Lady Smith Manor":MAILTO:info@ladysmithmanor.com
END:VEVENT
BEGIN:VEVENT
DTSTART;TZID=America/Halifax:20260726T140000
DTEND;TZID=America/Halifax:20260726T170000
DTSTAMP:20260423T024812
CREATED:20251005T160841Z
LAST-MODIFIED:20251026T210454Z
UID:10000090-1785074400-1785085200@ladysmithmanor.com
SUMMARY:The Stitched Whippet Society | 26th July 2026
DESCRIPTION:✨ The Stitched Whippet Society ✨ \nJoin us at the Thirsty Whippet Pub for a monthly gathering of fibre art lovers! Whether you’re into rug hooking\, knitting\, cross-stitch\, or any other fibre craft\, this is your chance to bring along your project\, relax with a drink\, and enjoy an afternoon of creativity and connection. \nTickets are $5 per person and must be booked in advance. Your ticket reserves your seat\, and the full amount will be applied as a discount on your first drink purchase. 🍻🧶 \nWhat to Expect ✨\nSettle in with a drink\, pull out your latest project\, and enjoy a cozy afternoon surrounded by fellow makers. This is a relaxed\, social space to stitch\, chat\, and share inspiration — whether you’re rug hooking\, knitting\, cross-stitching or working on another project . 🐾 \n\n\nNeed to Know 🧶\n\n🎟️ Tickets are $5 per person (applied as a discount on your first drink).\n🪡 Please bring your own materials/projects — this is a social stitching circle\, not a workshop.\n🍻 Drinks & pub food will be available for purchase at the bar.\n👥 Open to all skill levels — from beginners to seasoned makers.\n🧵  In Summer 2026 we’ll be collaborating with the St. James Textile Museum\, bringing you special workshops and fibre-inspired events alongside our regular gatherings.\n⏳ Spaces are limited and must be booked in advance.\n\n____________________________________________________\n\n\nSunday 26th July 2026\n\n\n2.00pm – 5.00pm\n\n\n$5 per person + HST\n\n\nSeats are limited.\n\n\nFind out more about The Stitched Whippet Society here!\n\n\n 
URL:https://ladysmithmanor.com/event/the-stitched-whippet-society-26th-july-2026/
LOCATION:The Thirsty Whippet Pub\, 22 Woodlawn Road\, Dorchester\, New Brunswick\, E4K 3A8\, Canada
CATEGORIES:The Stitched Whippet Society,The Thirsty Whippet Pub
ATTACH;FMTTYPE=image/jpeg:https://ladysmithmanor.com/wp-content/uploads/2025/10/The-Stitched-Whippet-800-x-800-px.jpg
ORGANIZER;CN="The Thirsty Whippet Pub":MAILTO:miriam@ladysmithmanor.com
END:VEVENT
END:VCALENDAR