BEGIN:VCALENDAR
VERSION:2.0
PRODID:-//Lady Smith Manor - ECPv6.15.20//NONSGML v1.0//EN
CALSCALE:GREGORIAN
METHOD:PUBLISH
X-WR-CALNAME:Lady Smith Manor
X-ORIGINAL-URL:https://ladysmithmanor.com
X-WR-CALDESC:Events for Lady Smith Manor
REFRESH-INTERVAL;VALUE=DURATION:PT1H
X-Robots-Tag:noindex
X-PUBLISHED-TTL:PT1H
BEGIN:VTIMEZONE
TZID:America/Halifax
BEGIN:DAYLIGHT
TZOFFSETFROM:-0400
TZOFFSETTO:-0300
TZNAME:ADT
DTSTART:20240310T060000
END:DAYLIGHT
BEGIN:STANDARD
TZOFFSETFROM:-0300
TZOFFSETTO:-0400
TZNAME:AST
DTSTART:20241103T050000
END:STANDARD
BEGIN:DAYLIGHT
TZOFFSETFROM:-0400
TZOFFSETTO:-0300
TZNAME:ADT
DTSTART:20250309T060000
END:DAYLIGHT
BEGIN:STANDARD
TZOFFSETFROM:-0300
TZOFFSETTO:-0400
TZNAME:AST
DTSTART:20251102T050000
END:STANDARD
BEGIN:DAYLIGHT
TZOFFSETFROM:-0400
TZOFFSETTO:-0300
TZNAME:ADT
DTSTART:20260308T060000
END:DAYLIGHT
BEGIN:STANDARD
TZOFFSETFROM:-0300
TZOFFSETTO:-0400
TZNAME:AST
DTSTART:20261101T050000
END:STANDARD
END:VTIMEZONE
BEGIN:VEVENT
DTSTART;TZID=America/Halifax:20250831T150000
DTEND;TZID=America/Halifax:20250831T170000
DTSTAMP:20260425T075820
CREATED:20250501T132553Z
LAST-MODIFIED:20250508T003158Z
UID:10000069-1756652400-1756659600@ladysmithmanor.com
SUMMARY:Mad Hatter's Tea Party - Sun 31st August 2025
DESCRIPTION:Enjoy an “Alice in Wonderland” themed Afternoon Tea surrounded by the history and charm of Lady Smith Manor \nOur Mad Hatter’s Tea Party will take you beyond the rabbit hole to enjoy warm scones spread with lashings of sweet berry jam & thick gooey cream\, miniature cakes topped with sweet buttercream\, rich chocolately bites & strawberries covered in smooth dark chocolate…….all washed down with cups of freshly brewed tea. \nTumble down the rabbit hole and enjoy an  indulgent afternoon with time worn vintage plates and tea cups\, linen napkins\, silver cutlery and fresh flowers in antique glass cruets. \nCapture the magic at our whimsical photo booth\, and explore a world of curiosities and enchantment. \nShare old memories\, and make new ones\, at your very own tea table surrounded by heirloom treasures and the rich history of an 1840 Georgian Manor. \nSurround yourself with people who make your heart smile and join us for an enchanting afternoon filled with magical treats and unforgettable moments. \n____________________________________________________\n\n\nSunday 31st August 2025\n\n\n3pm – 5pm\n\n\n$35 per person + HST\n\n\nTables are limited.\n\n\nMinimum 2 people and maximum 5 people per table.\n\n\nPlease note: we do not offer a gluten free\, vegan or other dietary option at our Afternoon Teas\n\nRead more about our Afternoon Teas here!
URL:https://ladysmithmanor.com/event/mad-hatters-tea-party-sun-31st-august-2025/
LOCATION:Lady Smith Manor\, 22 Woodlawn Rd\,\, Dorchester\, NB\, E4K 3A8\, Canada
CATEGORIES:Afternoon Tea,Mad Hatter's Tea Party
ATTACH;FMTTYPE=image/jpeg:https://ladysmithmanor.com/wp-content/uploads/2025/05/Alice-in-Wonderland-Afternoon-Tea-e1746105689451.jpg
ORGANIZER;CN="Lady Smith Manor":MAILTO:info@ladysmithmanor.com
END:VEVENT
BEGIN:VEVENT
DTSTART;TZID=America/Halifax:20250830T150000
DTEND;TZID=America/Halifax:20250830T170000
DTSTAMP:20260425T075820
CREATED:20250501T131823Z
LAST-MODIFIED:20250726T235129Z
UID:10000068-1756566000-1756573200@ladysmithmanor.com
SUMMARY:Mad Hatter's Tea Party - Sat 30th August 2025
DESCRIPTION:Enjoy an “Alice in Wonderland” themed Afternoon Tea surrounded by the history and charm of Lady Smith Manor \nOur Mad Hatter’s Tea Party will take you beyond the rabbit hole to enjoy warm scones spread with lashings of sweet berry jam & thick gooey cream\, miniature cakes topped with sweet buttercream\, rich chocolately bites & strawberries covered in smooth dark chocolate…….all washed down with cups of freshly brewed tea. \nTumble down the rabbit hole and enjoy an  indulgent afternoon with time worn vintage plates and tea cups\, linen napkins\, silver cutlery and fresh flowers in antique glass cruets. \nCapture the magic at our whimsical photo booth\, and explore a world of curiosities and enchantment. \nShare old memories\, and make new ones\, at your very own tea table surrounded by heirloom treasures and the rich history of an 1840 Georgian Manor. \nSurround yourself with people who make your heart smile and join us for an enchanting afternoon filled with magical treats and unforgettable moments. \n____________________________________________________\n\n\nSaturday 30th August 2025\n\n\n3pm – 5pm\n\n\n$35 per person + HST\n\n\nTables are limited.\n\n\nMinimum 2 people and maximum 5 people per table.\n\n\nPlease note: we do not offer a gluten free\, vegan or other dietary option at our Afternoon Teas\n\nRead more about our Afternoon Teas here!
URL:https://ladysmithmanor.com/event/mad-hatters-tea-party-sat-30th-aug-2025/
LOCATION:Lady Smith Manor\, 22 Woodlawn Rd\,\, Dorchester\, NB\, E4K 3A8\, Canada
CATEGORIES:Afternoon Tea,Mad Hatter's Tea Party
ATTACH;FMTTYPE=image/jpeg:https://ladysmithmanor.com/wp-content/uploads/2025/05/Alice-in-Wonderland-Afternoon-Tea-e1746105689451.jpg
ORGANIZER;CN="Lady Smith Manor":MAILTO:info@ladysmithmanor.com
END:VEVENT
BEGIN:VEVENT
DTSTART;TZID=America/Halifax:20250406T150000
DTEND;TZID=America/Halifax:20250406T170000
DTSTAMP:20260425T075820
CREATED:20240817T221858Z
LAST-MODIFIED:20250209T142450Z
UID:10000022-1743951600-1743958800@ladysmithmanor.com
SUMMARY:Mad Hatter's Tea Party - Sun 6th April 2025
DESCRIPTION:Enjoy an “Alice in Wonderland” themed Afternoon Tea surrounded by the history and charm of Lady Smith Manor \nOur Mad Hatter’s Tea Party will take you beyond the rabbit hole to enjoy warm scones spread with lashings of sweet berry jam & thick gooey cream\, miniature cakes topped with sweet buttercream\, rich chocolately bites & strawberries covered in smooth dark chocolate…….all washed down with cups of freshly brewed tea. \nTumble down the rabbit hole and enjoy an  indulgent afternoon with time worn vintage plates and tea cups\, linen napkins\, silver cutlery and fresh flowers in antique glass cruets. \nCapture the magic at our whimsical photo booth\, and explore a world of curiosities and enchantment. \nShare old memories\, and make new ones\, at your very own tea table surrounded by heirloom treasures and the rich history of an 1840 Georgian Manor. \nSurround yourself with people who make your heart smile and join us for an enchanting afternoon filled with magical treats and unforgettable moments. \n____________________________________________________\n\n\nSunday 6th April 2025\n\n\n3pm – 5pm\n\n\n$35 per person + HST\n\n\nTables are limited.\n\n\nMinimum 2 people and maximum 5 people per table.\n\n\nPlease note: we do not offer a gluten free\, vegan or other dietary option at our Afternoon Teas\n\nRead more about our Afternoon Teas here!
URL:https://ladysmithmanor.com/event/mad-hatters-tea-party-sun-6th-april-2025/
LOCATION:Lady Smith Manor\, 22 Woodlawn Rd\,\, Dorchester\, NB\, E4K 3A8\, Canada
CATEGORIES:Afternoon Tea,Mad Hatter's Tea Party
ATTACH;FMTTYPE=image/jpeg:https://ladysmithmanor.com/wp-content/uploads/2024/08/Mad-Hatters-Tea-Party-e1735919099587.jpg
ORGANIZER;CN="Lady Smith Manor":MAILTO:info@ladysmithmanor.com
END:VEVENT
BEGIN:VEVENT
DTSTART;TZID=America/Halifax:20250405T150000
DTEND;TZID=America/Halifax:20250405T170000
DTSTAMP:20260425T075820
CREATED:20240817T221326Z
LAST-MODIFIED:20250305T124252Z
UID:10000021-1743865200-1743872400@ladysmithmanor.com
SUMMARY:Mad Hatter's Tea Party - Sat 5th April 2025
DESCRIPTION:Enjoy an “Alice in Wonderland” themed Afternoon Tea surrounded by the history and charm of Lady Smith Manor \nOur Mad Hatter’s Tea Party will take you beyond the rabbit hole to enjoy warm scones spread with lashings of sweet berry jam & thick gooey cream\, miniature cakes topped with sweet buttercream\, rich chocolately bites & strawberries covered in smooth dark chocolate…….all washed down with cups of freshly brewed tea. \nTumble down the rabbit hole and enjoy an  indulgent afternoon with time worn vintage plates and tea cups\, linen napkins\, silver cutlery and fresh flowers in antique glass cruets. \nCapture the magic at our whimsical photo booth\, and explore a world of curiosities and enchantment. \nShare old memories\, and make new ones\, at your very own tea table surrounded by heirloom treasures and the rich history of an 1840 Georgian Manor. \nSurround yourself with people who make your heart smile and join us for an enchanting afternoon filled with magical treats and unforgettable moments. \n____________________________________________________\n\n\nSaturday 5th April 2025\n\n\n3pm – 5pm\n\n\n$35 per person + HST\n\n\nTables are limited.\n\n\nMinimum 2 people and maximum 5 people per table.\n\n\nPlease note: we do not offer a gluten free\, vegan or other dietary option at our Afternoon Teas\n\nRead more about our Afternoon Teas here!
URL:https://ladysmithmanor.com/event/mad-hatters-tea-party-sat-5th-april-2025/
LOCATION:Lady Smith Manor\, 22 Woodlawn Rd\,\, Dorchester\, NB\, E4K 3A8\, Canada
CATEGORIES:Afternoon Tea,Mad Hatter's Tea Party
ATTACH;FMTTYPE=image/jpeg:https://ladysmithmanor.com/wp-content/uploads/2024/08/Mad-Hatters-Tea-Party-e1735919099587.jpg
ORGANIZER;CN="Lady Smith Manor":MAILTO:info@ladysmithmanor.com
END:VEVENT
BEGIN:VEVENT
DTSTART;TZID=America/Halifax:20250404T150000
DTEND;TZID=America/Halifax:20250404T170000
DTSTAMP:20260425T075820
CREATED:20250117T185950Z
LAST-MODIFIED:20250209T142217Z
UID:10000060-1743778800-1743786000@ladysmithmanor.com
SUMMARY:Mad Hatter's Tea Party - Fri 4th April 2025
DESCRIPTION:Enjoy an “Alice in Wonderland” themed Afternoon Tea surrounded by the history and charm of Lady Smith Manor \nOur Mad Hatter’s Tea Party will take you beyond the rabbit hole to enjoy warm scones spread with lashings of sweet berry jam & thick gooey cream\, miniature cakes topped with sweet buttercream\, rich chocolately bites & strawberries covered in smooth dark chocolate…….all washed down with cups of freshly brewed tea. \nTumble down the rabbit hole and enjoy an  indulgent afternoon with time worn vintage plates and tea cups\, linen napkins\, silver cutlery and fresh flowers in antique glass cruets. \nCapture the magic at our whimsical photo booth\, and explore a world of curiosities and enchantment. \nShare old memories\, and make new ones\, at your very own tea table surrounded by heirloom treasures and the rich history of an 1840 Georgian Manor. \nSurround yourself with people who make your heart smile and join us for an enchanting afternoon filled with magical treats and unforgettable moments. \n____________________________________________________\n\n\nFriday 4th April 2025\n\n\n3pm – 5pm\n\n\n$35 per person + HST\n\n\nTables are limited.\n\n\nMinimum 2 people and maximum 5 people per table.\n\n\nPlease note: we do not offer a gluten free\, vegan or other dietary option at our Afternoon Teas\n\n\nRead more about our Afternoon Teas here!\n\n\n 
URL:https://ladysmithmanor.com/event/mad-hatters-tea-party-fri-4th-april-2025/
LOCATION:Lady Smith Manor\, 22 Woodlawn Rd\,\, Dorchester\, NB\, E4K 3A8\, Canada
CATEGORIES:Afternoon Tea,Mad Hatter's Tea Party
ATTACH;FMTTYPE=image/jpeg:https://ladysmithmanor.com/wp-content/uploads/2024/08/Mad-Hatters-Tea-Party-e1735919099587.jpg
ORGANIZER;CN="Lady Smith Manor":MAILTO:info@ladysmithmanor.com
END:VEVENT
END:VCALENDAR