BEGIN:VCALENDAR
VERSION:2.0
PRODID:-//Lady Smith Manor - ECPv6.15.20//NONSGML v1.0//EN
CALSCALE:GREGORIAN
METHOD:PUBLISH
X-ORIGINAL-URL:https://ladysmithmanor.com
X-WR-CALDESC:Events for Lady Smith Manor
REFRESH-INTERVAL;VALUE=DURATION:PT1H
X-Robots-Tag:noindex
X-PUBLISHED-TTL:PT1H
BEGIN:VTIMEZONE
TZID:America/Halifax
BEGIN:DAYLIGHT
TZOFFSETFROM:-0400
TZOFFSETTO:-0300
TZNAME:ADT
DTSTART:20250309T060000
END:DAYLIGHT
BEGIN:STANDARD
TZOFFSETFROM:-0300
TZOFFSETTO:-0400
TZNAME:AST
DTSTART:20251102T050000
END:STANDARD
BEGIN:DAYLIGHT
TZOFFSETFROM:-0400
TZOFFSETTO:-0300
TZNAME:ADT
DTSTART:20260308T060000
END:DAYLIGHT
BEGIN:STANDARD
TZOFFSETFROM:-0300
TZOFFSETTO:-0400
TZNAME:AST
DTSTART:20261101T050000
END:STANDARD
BEGIN:DAYLIGHT
TZOFFSETFROM:-0400
TZOFFSETTO:-0300
TZNAME:ADT
DTSTART:20270314T060000
END:DAYLIGHT
BEGIN:STANDARD
TZOFFSETFROM:-0300
TZOFFSETTO:-0400
TZNAME:AST
DTSTART:20271107T050000
END:STANDARD
END:VTIMEZONE
BEGIN:VEVENT
DTSTART;TZID=America/Halifax:20260508T150000
DTEND;TZID=America/Halifax:20260508T170000
DTSTAMP:20260423T061707
CREATED:20250511T225817Z
LAST-MODIFIED:20260307T143744Z
UID:10000070-1778252400-1778259600@ladysmithmanor.com
SUMMARY:Mother's Day Afternoon Tea - Fri 8th May 2026
DESCRIPTION:Enjoy a traditional Afternoon Tea surrounded by the history and charm of Lady Smith Manor. \nWarm scones spread with lashings of sweet berry jam & thick gooey cream\, miniature cakes topped with sweet buttercream\, rich chocolately bites & strawberries covered in smooth dark chocolate…….all washed down with cups of freshly brewed tea. \nTreat your Mum to an indulgent afternoon with time worn vintage plates and tea cups\, linen napkins\, silver cutlery and fresh flowers in antique glass cruets. \nCapture the precious moments with your Mum in our Mother’s Day Photo Booth\, and watch your Mum smile as you share Afternoon Tea together. \nShare old memories\, and make new ones\, at your very own tea table surrounded by heirloom treasures and the rich history of an 1840 Georgian Manor. \nThe perfect way to celebrate your Mum this Mother’s Day! \n____________________________________________________\n\n\nFriday 8th May 2026\n\n\n3pm – 5pm (Please arrive for 3pm)\n\n\n$35 per person + HST\n\n\nTables are limited.\n\n\nMinimum 2 people and maximum 5 people per table.\n\n\nPlease note: we do not offer a gluten free\, vegan\, dairy free or other dietary option at our Afternoon Teas\n\nRead more about our Mother’s Day Afternoon Tea here!
URL:https://ladysmithmanor.com/event/mothers-day-afternoon-tea-fri-8th-may-2026/
LOCATION:Lady Smith Manor\, 22 Woodlawn Rd\,\, Dorchester\, NB\, E4K 3A8\, Canada
CATEGORIES:Afternoon Tea,Mother's Day
ATTACH;FMTTYPE=image/jpeg:https://ladysmithmanor.com/wp-content/uploads/2024/10/IMG-6025-800x800-1.jpg
ORGANIZER;CN="Lady Smith Manor":MAILTO:info@ladysmithmanor.com
END:VEVENT
BEGIN:VEVENT
DTSTART;TZID=America/Halifax:20260509T150000
DTEND;TZID=America/Halifax:20260509T170000
DTSTAMP:20260423T061707
CREATED:20250511T230100Z
LAST-MODIFIED:20260121T235951Z
UID:10000071-1778338800-1778346000@ladysmithmanor.com
SUMMARY:Mother's Day Afternoon Tea - Sat 9th May 2026
DESCRIPTION:Enjoy a traditional Afternoon Tea surrounded by the history and charm of Lady Smith Manor. \nWarm scones spread with lashings of sweet berry jam & thick gooey cream\, miniature cakes topped with sweet buttercream\, rich chocolately bites & strawberries covered in smooth dark chocolate…….all washed down with cups of freshly brewed tea. \nTreat your Mum to an indulgent afternoon with time worn vintage plates and tea cups\, linen napkins\, silver cutlery and fresh flowers in antique glass cruets. \nCapture the precious moments with your Mum in our Mother’s Day Photo Booth\, and watch your Mum smile as you share Afternoon Tea together. \nShare old memories\, and make new ones\, at your very own tea table surrounded by heirloom treasures and the rich history of an 1840 Georgian Manor. \nThe perfect way to celebrate your Mum this Mother’s Day! \n____________________________________________________\n\n\nSaturday 9th May 2026\n\n\n3pm – 5pm (Please arrive for 3pm)\n\n\n$35 per person + HST\n\n\nTables are limited.\n\n\nMinimum 2 people and maximum 5 people per table.\n\n\nPlease note: we do not offer a gluten free\, vegan\, dairy free or other dietary option at our Afternoon Teas\n\nRead more about our Mother’s Day Afternoon Tea here!
URL:https://ladysmithmanor.com/event/mothers-day-afternoon-tea-sat-9th-may-2026/
LOCATION:Lady Smith Manor\, 22 Woodlawn Rd\,\, Dorchester\, NB\, E4K 3A8\, Canada
CATEGORIES:Afternoon Tea,Mother's Day
ATTACH;FMTTYPE=image/jpeg:https://ladysmithmanor.com/wp-content/uploads/2024/10/IMG-6025-800x800-1.jpg
ORGANIZER;CN="Lady Smith Manor":MAILTO:info@ladysmithmanor.com
END:VEVENT
BEGIN:VEVENT
DTSTART;TZID=America/Halifax:20260510T150000
DTEND;TZID=America/Halifax:20260510T170000
DTSTAMP:20260423T061707
CREATED:20250511T230540Z
LAST-MODIFIED:20251130T230132Z
UID:10000072-1778425200-1778432400@ladysmithmanor.com
SUMMARY:Mother's Day Afternoon Tea - Sun 10th May 2026
DESCRIPTION:Enjoy a traditional Afternoon Tea surrounded by the history and charm of Lady Smith Manor. \nWarm scones spread with lashings of sweet berry jam & thick gooey cream\, miniature cakes topped with sweet buttercream\, rich chocolately bites & strawberries covered in smooth dark chocolate…….all washed down with cups of freshly brewed tea. \nTreat your Mum to an indulgent afternoon with time worn vintage plates and tea cups\, linen napkins\, silver cutlery and fresh flowers in antique glass cruets. \nCapture the precious moments with your Mum in our Mother’s Day Photo Booth\, and watch your Mum smile as you share Afternoon Tea together. \nShare old memories\, and make new ones\, at your very own tea table surrounded by heirloom treasures and the rich history of an 1840 Georgian Manor. \nThe perfect way to celebrate your Mum this Mother’s Day! \n____________________________________________________\n\n\nSunday 10th May 2026\n\n\n3pm – 5pm (Please arrive for 3pm)\n\n\n$35 per person + HST\n\n\nTables are limited.\n\n\nMinimum 2 people and maximum 5 people per table.\n\n\nPlease note: we do not offer a gluten free\, vegan\, dairy free or other dietary option at our Afternoon Teas\n\nRead more about our Mother’s Day Afternoon Tea here!
URL:https://ladysmithmanor.com/event/mothers-day-afternoon-tea-sun-10th-may-2026/
LOCATION:Lady Smith Manor\, 22 Woodlawn Rd\,\, Dorchester\, NB\, E4K 3A8\, Canada
CATEGORIES:Afternoon Tea,Mother's Day
ATTACH;FMTTYPE=image/jpeg:https://ladysmithmanor.com/wp-content/uploads/2024/10/IMG-6025-800x800-1.jpg
ORGANIZER;CN="Lady Smith Manor":MAILTO:info@ladysmithmanor.com
END:VEVENT
BEGIN:VEVENT
DTSTART;TZID=America/Halifax:20260919T150000
DTEND;TZID=America/Halifax:20260919T170000
DTSTAMP:20260423T061707
CREATED:20251023T232733Z
LAST-MODIFIED:20260419T144025Z
UID:10000108-1789830000-1789837200@ladysmithmanor.com
SUMMARY:Harry Potter Afternoon Tea - Sat 19th September 2026
DESCRIPTION:Enjoy a spellbinding Afternoon Tea surrounded by the history and enchantment of Lady Smith Manor — where every teacup holds a touch of magic and every bite feels like a charm. \nFeast on warm scones piled high with berry jam and clotted cream\, miniature cakes swirled with buttercream\, rich chocolate bites worthy of Honeydukes\, and strawberries dipped in silky dark chocolate… all perfectly paired with cups of freshly brewed tea served from our enchanted teapots. ☕🪄 \nSettle in at your own magical tea table dressed in vintage linens\, silver cutlery\, and antique glass cruets filled with fresh flowers — the perfect backdrop for a truly whimsical afternoon. \nCapture the moment in our Wizarding Photo Booth\, and watch smiles appear faster than a flick of a wand as you share laughter and treats in this one-of-a-kind experience. \nWhether you’re a proud Gryffindor\, clever Ravenclaw\, loyal Hufflepuff\, or cunning Slytherin\, this is your invitation to step through the doors of the Manor and into the Wizarding World. \nA magical celebration of friendship\, wonder\, and Afternoon Tea — the perfect escape for witches\, wizards\, and muggles alike! \n____________________________________________________\n\n\nSaturday 19th September 2026\n\n\n3pm – 5pm (Please arrive for 3pm)\n\n\n$35 per person + HST\n\n\nTables are limited.\n\n\nMinimum 2 people and maximum 6 people per table.\n\n\nPlease note: we do not offer a gluten free\, vegan\, dairy free or other dietary option at our Afternoon Teas\n\nRead more about our  Afternoon Teas here!
URL:https://ladysmithmanor.com/event/harry-potter-afternoon-tea-sat-19th-sept-2026/
LOCATION:Lady Smith Manor\, 22 Woodlawn Rd\,\, Dorchester\, NB\, E4K 3A8\, Canada
CATEGORIES:Afternoon Tea,Harry Potter,Specialty Events
ATTACH;FMTTYPE=image/jpeg:https://ladysmithmanor.com/wp-content/uploads/2025/10/Harry-Potter-Afternoon-Tea-Square.jpg
ORGANIZER;CN="Lady Smith Manor":MAILTO:info@ladysmithmanor.com
END:VEVENT
BEGIN:VEVENT
DTSTART;TZID=America/Halifax:20260920T150000
DTEND;TZID=America/Halifax:20260920T170000
DTSTAMP:20260423T061707
CREATED:20251023T233014Z
LAST-MODIFIED:20251023T233014Z
UID:10000109-1789916400-1789923600@ladysmithmanor.com
SUMMARY:Harry Potter Afternoon Tea - Sun 20th September 2026
DESCRIPTION:Enjoy a spellbinding Afternoon Tea surrounded by the history and enchantment of Lady Smith Manor — where every teacup holds a touch of magic and every bite feels like a charm. \nFeast on warm scones piled high with berry jam and clotted cream\, miniature cakes swirled with buttercream\, rich chocolate bites worthy of Honeydukes\, and strawberries dipped in silky dark chocolate… all perfectly paired with cups of freshly brewed tea served from our enchanted teapots. ☕🪄 \nSettle in at your own magical tea table dressed in vintage linens\, silver cutlery\, and antique glass cruets filled with fresh flowers — the perfect backdrop for a truly whimsical afternoon. \nCapture the moment in our Wizarding Photo Booth\, and watch smiles appear faster than a flick of a wand as you share laughter and treats in this one-of-a-kind experience. \nWhether you’re a proud Gryffindor\, clever Ravenclaw\, loyal Hufflepuff\, or cunning Slytherin\, this is your invitation to step through the doors of the Manor and into the Wizarding World. \nA magical celebration of friendship\, wonder\, and Afternoon Tea — the perfect escape for witches\, wizards\, and muggles alike! \n____________________________________________________\n\n\nSunday 20th September 2026\n\n\n3pm – 5pm (Please arrive for 3pm)\n\n\n$35 per person + HST\n\n\nTables are limited.\n\n\nMinimum 2 people and maximum 6 people per table.\n\n\nPlease note: we do not offer a gluten free\, vegan\, dairy free or other dietary option at our Afternoon Teas\n\nRead more about our  Afternoon Teas here!
URL:https://ladysmithmanor.com/event/harry-potter-afternoon-tea-sun-20th-sept-2026/
LOCATION:Lady Smith Manor\, 22 Woodlawn Rd\,\, Dorchester\, NB\, E4K 3A8\, Canada
CATEGORIES:Afternoon Tea,Harry Potter,Specialty Events
ATTACH;FMTTYPE=image/jpeg:https://ladysmithmanor.com/wp-content/uploads/2025/10/Harry-Potter-Afternoon-Tea-Square.jpg
ORGANIZER;CN="Lady Smith Manor":MAILTO:info@ladysmithmanor.com
END:VEVENT
BEGIN:VEVENT
DTSTART;TZID=America/Halifax:20261128T150000
DTEND;TZID=America/Halifax:20261128T170000
DTSTAMP:20260423T061707
CREATED:20251218T154142Z
LAST-MODIFIED:20251218T155058Z
UID:10000110-1795878000-1795885200@ladysmithmanor.com
SUMMARY:Christmas Afternoon Tea - Sat 28th Nov 2026
DESCRIPTION:Step into the warmth and wonder of the season at our Christmas Afternoon Tea\, where festive magic meets the timeless history and charm of Lady Smith Manor. \nSettle in and savour warm\, freshly baked scones topped with lashings of sweet berry jam and thick\, indulgent cream\, alongside an array of miniature cakes crowned with delicate buttercream\, rich chocolatey treats\, traditional mince pies\, and strawberries dipped in smooth dark chocolate — all perfectly paired with cups of freshly brewed tea. \nIndulge in a leisurely afternoon served on time-worn vintage plates and teacups\, with linen napkins\, polished silver cutlery\, and beautiful Christmas decorations adorning the house. \nLinger a little longer\, share old memories\, and create new ones at your own Christmas tea table\, surrounded by heirloom treasures and the storied elegance of our 1840 Georgian Manor. \n____________________________________________________\n\n\nSat 28th November 2026\n\n\n3pm – 5pm\n\n\n$35 per person + HST\n\n\nTables are limited.\n\n\nMinimum 2 people and maximum 5 people per table.\n\n\nPlease note: we do not offer a gluten free\, vegan or other dietary option at our Afternoon Teas\n\nRead more about our Afternoon Teas here!\n\n(Please note\, if you are having trouble seeing all the booking information on your phone\, please try turning your phone sideways. We are aware of the problem and are working to get it fixed. We apologize for any inconvenience)
URL:https://ladysmithmanor.com/event/christmas-afternoon-tea-28th-nov-2026/
LOCATION:Lady Smith Manor\, 22 Woodlawn Rd\,\, Dorchester\, NB\, E4K 3A8\, Canada
CATEGORIES:Afternoon Tea,Christmas,Christmas 2026
ATTACH;FMTTYPE=image/jpeg:https://ladysmithmanor.com/wp-content/uploads/2025/12/Christmas-Afternoon-Tea-2025.jpeg
ORGANIZER;CN="Lady Smith Manor":MAILTO:info@ladysmithmanor.com
END:VEVENT
BEGIN:VEVENT
DTSTART;TZID=America/Halifax:20261129T150000
DTEND;TZID=America/Halifax:20261129T170000
DTSTAMP:20260423T061707
CREATED:20251218T154716Z
LAST-MODIFIED:20251218T161622Z
UID:10000111-1795964400-1795971600@ladysmithmanor.com
SUMMARY:Christmas Afternoon Tea - Sun 29th Nov 2026
DESCRIPTION:Step into the warmth and wonder of the season at our Christmas Afternoon Tea\, where festive magic meets the timeless history and charm of Lady Smith Manor. \nSettle in and savour warm\, freshly baked scones topped with lashings of sweet berry jam and thick\, indulgent cream\, alongside an array of miniature cakes crowned with delicate buttercream\, rich chocolatey treats\, traditional mince pies\, and strawberries dipped in smooth dark chocolate — all perfectly paired with cups of freshly brewed tea. \nIndulge in a leisurely afternoon served on time-worn vintage plates and teacups\, with linen napkins\, polished silver cutlery\, and beautiful Christmas decorations adorning the house. \nLinger a little longer\, share old memories\, and create new ones at your own Christmas tea table\, surrounded by heirloom treasures and the storied elegance of our 1840 Georgian Manor. \n____________________________________________________\n\n\nSun 29th November 2026\n\n\n3pm – 5pm\n\n\n$35 per person + HST\n\n\nTables are limited.\n\n\nMinimum 2 people and maximum 5 people per table.\n\n\nPlease note: we do not offer a gluten free\, vegan or other dietary option at our Afternoon Teas\n\nRead more about our Afternoon Teas here!\n\n(Please note\, if you are having trouble seeing all the booking information on your phone\, please try turning your phone sideways. We are aware of the problem and are working to get it fixed. We apologize for any inconvenience)
URL:https://ladysmithmanor.com/event/christmas-afternoon-tea-29th-nov-2026/
LOCATION:Lady Smith Manor\, 22 Woodlawn Rd\,\, Dorchester\, NB\, E4K 3A8\, Canada
CATEGORIES:Afternoon Tea,Christmas,Christmas 2026
ATTACH;FMTTYPE=image/jpeg:https://ladysmithmanor.com/wp-content/uploads/2025/12/Christmas-Afternoon-Tea-2025.jpeg
ORGANIZER;CN="Lady Smith Manor":MAILTO:info@ladysmithmanor.com
END:VEVENT
BEGIN:VEVENT
DTSTART;TZID=America/Halifax:20261205T150000
DTEND;TZID=America/Halifax:20261205T170000
DTSTAMP:20260423T061707
CREATED:20251218T160339Z
LAST-MODIFIED:20251218T161727Z
UID:10000113-1796482800-1796490000@ladysmithmanor.com
SUMMARY:Christmas Afternoon Tea - Sat 5th Dec 2026
DESCRIPTION:Step into the warmth and wonder of the season at our Christmas Afternoon Tea\, where festive magic meets the timeless history and charm of Lady Smith Manor. \nSettle in and savour warm\, freshly baked scones topped with lashings of sweet berry jam and thick\, indulgent cream\, alongside an array of miniature cakes crowned with delicate buttercream\, rich chocolatey treats\, traditional mince pies\, and strawberries dipped in smooth dark chocolate — all perfectly paired with cups of freshly brewed tea. \nIndulge in a leisurely afternoon served on time-worn vintage plates and teacups\, with linen napkins\, polished silver cutlery\, and beautiful Christmas decorations adorning the house. \nLinger a little longer\, share old memories\, and create new ones at your own Christmas tea table\, surrounded by heirloom treasures and the storied elegance of our 1840 Georgian Manor. \n____________________________________________________\n\n\nSat 5th December 2026\n\n\n3pm – 5pm\n\n\n$35 per person + HST\n\n\nTables are limited.\n\n\nMinimum 2 people and maximum 5 people per table.\n\n\nPlease note: we do not offer a gluten free\, vegan or other dietary option at our Afternoon Teas\n\nRead more about our Afternoon Teas here!\n\n(Please note\, if you are having trouble seeing all the booking information on your phone\, please try turning your phone sideways. We are aware of the problem and are working to get it fixed. We apologize for any inconvenience)
URL:https://ladysmithmanor.com/event/christmas-afternoon-tea-sat-5th-dec-2026/
LOCATION:Lady Smith Manor\, 22 Woodlawn Rd\,\, Dorchester\, NB\, E4K 3A8\, Canada
CATEGORIES:Afternoon Tea,Christmas,Christmas 2026
ATTACH;FMTTYPE=image/jpeg:https://ladysmithmanor.com/wp-content/uploads/2025/12/Christmas-Afternoon-Tea-2025.jpeg
ORGANIZER;CN="Lady Smith Manor":MAILTO:info@ladysmithmanor.com
END:VEVENT
BEGIN:VEVENT
DTSTART;TZID=America/Halifax:20261206T150000
DTEND;TZID=America/Halifax:20261206T170000
DTSTAMP:20260423T061707
CREATED:20251218T155438Z
LAST-MODIFIED:20251218T155438Z
UID:10000112-1796569200-1796576400@ladysmithmanor.com
SUMMARY:Christmas Afternoon Tea - Sun 6th Dec 2026
DESCRIPTION:Step into the warmth and wonder of the season at our Christmas Afternoon Tea\, where festive magic meets the timeless history and charm of Lady Smith Manor. \nSettle in and savour warm\, freshly baked scones topped with lashings of sweet berry jam and thick\, indulgent cream\, alongside an array of miniature cakes crowned with delicate buttercream\, rich chocolatey treats\, traditional mince pies\, and strawberries dipped in smooth dark chocolate — all perfectly paired with cups of freshly brewed tea. \nIndulge in a leisurely afternoon served on time-worn vintage plates and teacups\, with linen napkins\, polished silver cutlery\, and beautiful Christmas decorations adorning the house. \nLinger a little longer\, share old memories\, and create new ones at your own Christmas tea table\, surrounded by heirloom treasures and the storied elegance of our 1840 Georgian Manor. \n____________________________________________________\n\n\nSun 6th December 2026\n\n\n3pm – 5pm\n\n\n$35 per person + HST\n\n\nTables are limited.\n\n\nMinimum 2 people and maximum 5 people per table.\n\n\nPlease note: we do not offer a gluten free\, vegan or other dietary option at our Afternoon Teas\n\nRead more about our Afternoon Teas here!\n\n(Please note\, if you are having trouble seeing all the booking information on your phone\, please try turning your phone sideways. We are aware of the problem and are working to get it fixed. We apologize for any inconvenience)
URL:https://ladysmithmanor.com/event/christmas-afternoon-tea-sun-6th-dec-2026/
LOCATION:Lady Smith Manor\, 22 Woodlawn Rd\,\, Dorchester\, NB\, E4K 3A8\, Canada
CATEGORIES:Afternoon Tea,Christmas,Christmas 2026
ATTACH;FMTTYPE=image/jpeg:https://ladysmithmanor.com/wp-content/uploads/2025/12/Christmas-Afternoon-Tea-2025.jpeg
ORGANIZER;CN="Lady Smith Manor":MAILTO:info@ladysmithmanor.com
END:VEVENT
END:VCALENDAR