BEGIN:VCALENDAR
VERSION:2.0
PRODID:-//Lady Smith Manor - ECPv6.15.20//NONSGML v1.0//EN
CALSCALE:GREGORIAN
METHOD:PUBLISH
X-WR-CALNAME:Lady Smith Manor
X-ORIGINAL-URL:https://ladysmithmanor.com
X-WR-CALDESC:Events for Lady Smith Manor
REFRESH-INTERVAL;VALUE=DURATION:PT1H
X-Robots-Tag:noindex
X-PUBLISHED-TTL:PT1H
BEGIN:VTIMEZONE
TZID:America/Halifax
BEGIN:DAYLIGHT
TZOFFSETFROM:-0400
TZOFFSETTO:-0300
TZNAME:ADT
DTSTART:20230312T060000
END:DAYLIGHT
BEGIN:STANDARD
TZOFFSETFROM:-0300
TZOFFSETTO:-0400
TZNAME:AST
DTSTART:20231105T050000
END:STANDARD
BEGIN:DAYLIGHT
TZOFFSETFROM:-0400
TZOFFSETTO:-0300
TZNAME:ADT
DTSTART:20240310T060000
END:DAYLIGHT
BEGIN:STANDARD
TZOFFSETFROM:-0300
TZOFFSETTO:-0400
TZNAME:AST
DTSTART:20241103T050000
END:STANDARD
BEGIN:DAYLIGHT
TZOFFSETFROM:-0400
TZOFFSETTO:-0300
TZNAME:ADT
DTSTART:20250309T060000
END:DAYLIGHT
BEGIN:STANDARD
TZOFFSETFROM:-0300
TZOFFSETTO:-0400
TZNAME:AST
DTSTART:20251102T050000
END:STANDARD
END:VTIMEZONE
BEGIN:VEVENT
DTSTART;TZID=America/Halifax:20240714T100000
DTEND;TZID=America/Halifax:20240714T160000
DTSTAMP:20260424T032908
CREATED:20240515T214253Z
LAST-MODIFIED:20240713T041225Z
UID:10000010-1720951200-1720972800@ladysmithmanor.com
SUMMARY:Lady Smith Manor Summer Market - Sun 14th July
DESCRIPTION:A Summer Market filled with a unique selection of local artisans\, Summer treats\, and an unforgettable\, nostalgic experience inspired by the book “Around The World in 80 Days”.\nYou are invited to join us at Lady Smith Manor for our 4th Annual Summer Market. Turn back the clock and enjoy tradition at its best with a nostalgic experience surrounded by the history and charm of an 1840 Georgian Manor.\n\n\nStep into a world inspired by “Around The World in 80 Days”!\n\n\nShop a unique selection of handcrafted and vintage inspired items in our Market that includes a carefully curated selection of local artisans and vintage inspired vendors to give you the opportunity to shop the best quality\, unique products.\n\n\nYou will find interesting curiosities & pretty vintage treasures\, homewares & accessories\, beautiful handmade jewelry\, candles & décor\, artwork\, farm fresh produce\, delicious food & drink\, embroidery & fibre art\, leather craft\, pottery\, natural bath and body products\, flowers and much more.\n\n\nBe inspired\, shop and meet the people behind the heart of these unique local businesses.\n\n\nCome and celebrate Summer at the Manor.\n\n\n____________________________________________________ \n\n\nSunday 14th July\n\n\nTickets available from 10am – 4pm\n\n\nAdmission: $5 Per Ticket | Under 12s – Free\n\n\nNo tickets are required for under 12s.\n\n\nTickets are based on your arrival time. This way we are able to spread the arrival of guests throughout the day and ensure that everyone has the most enjoyable & relaxed experience.\n\n\nRead more about the Summer Market here!
URL:https://ladysmithmanor.com/event/lady-smith-manor-summer-market-sun-14th-july/
LOCATION:Lady Smith Manor\, 22 Woodlawn Rd\,\, Dorchester\, NB\, E4K 3A8\, Canada
CATEGORIES:Summer Market
ATTACH;FMTTYPE=image/jpeg:https://ladysmithmanor.com/wp-content/uploads/2024/05/Summer-Market-Instagram-1.jpg
ORGANIZER;CN="Lady Smith Manor":MAILTO:info@ladysmithmanor.com
END:VEVENT
BEGIN:VEVENT
DTSTART;TZID=America/Halifax:20240713T100000
DTEND;TZID=America/Halifax:20240713T170000
DTSTAMP:20260424T032908
CREATED:20240515T213346Z
LAST-MODIFIED:20240713T041604Z
UID:10000009-1720864800-1720890000@ladysmithmanor.com
SUMMARY:Lady Smith Manor Summer Market - Sat 13th July
DESCRIPTION:A Summer Market filled with a unique selection of local artisans\, Summer treats\, and an unforgettable\, nostalgic experience inspired by the book “Around The World in 80 Days”.\nYou are invited to join us at Lady Smith Manor for our 4th Annual Summer Market. Turn back the clock and enjoy tradition at its best with a nostalgic experience surrounded by the history and charm of an 1840 Georgian Manor.\n\n\nStep into a world inspired by “Around The World in 80 Days”!\n\n\nShop a unique selection of handcrafted and vintage inspired items in our Market that includes a carefully curated selection of local artisans and vintage inspired vendors to give you the opportunity to shop the best quality\, unique products.\n\n\nYou will find interesting curiosities & pretty vintage treasures\, homewares & accessories\, beautiful handmade jewelry\, candles & décor\, artwork\, farm fresh produce\, delicious food & drink\, embroidery & fibre art\, leather craft\, pottery\, natural bath and body products\, flowers and much more.\n\n\nBe inspired\, shop and meet the people behind the heart of these unique local businesses.\n\n\nCome and celebrate Summer at the Manor.\n\n\n____________________________________________________ \n\n\nAdmission: $5 Per Ticket | Under 12s – Free\n\n\nNo tickets are required for under 12s.\n\n\nTickets available for Saturday 13th July – 10am – 5pm and Sunday 14th July – 10am – 4pm\n\n\nTickets are based on your arrival time. This way we are able to spread the arrival of guests throughout the day and ensure that everyone has the most enjoyable & relaxed experience.\n\n\nRead more about the Summer Market here!
URL:https://ladysmithmanor.com/event/lady-smith-manor-summer-market-sat-13th-july/
LOCATION:Lady Smith Manor\, 22 Woodlawn Rd\,\, Dorchester\, NB\, E4K 3A8\, Canada
CATEGORIES:Summer Market
ATTACH;FMTTYPE=image/jpeg:https://ladysmithmanor.com/wp-content/uploads/2024/05/Summer-Market-Instagram-1.jpg
ORGANIZER;CN="Lady Smith Manor":MAILTO:info@ladysmithmanor.com
END:VEVENT
BEGIN:VEVENT
DTSTART;TZID=America/Halifax:20240622T183000
DTEND;TZID=America/Halifax:20240622T230000
DTSTAMP:20260424T032908
CREATED:20240515T203504Z
LAST-MODIFIED:20240522T135534Z
UID:10000006-1719081000-1719097200@ladysmithmanor.com
SUMMARY:James Mullinger Live
DESCRIPTION:Be prepared to laugh\, feel inspired and be uplifted as James Mullinger performs live at The Thirsty Whippet Pub.\nPerforming from coast to coast James has been a stand up comedian for 20 years and is at the top of his game. For longtime fans and newcomers alike\, this is a show for everyone.\nTickets include:\n\n\nJames’s 90 mins live stand up performance.\n\n\nA signature “Thirsty Whippet” cocktail on arrival.\n\n\nBritish themed spread of delicious appies and tasty treats.\n\n\nCustom designed Photobooth to capture the perfect memory of your evening.\n\n\nMeet & Greet with James following the performance.\n\n\nOpportunity to win a copy of James’s book “Brit Happens”.\n\n\n____________________________________________________\n\n\nSaturday 22th June 2024\n\n\n6.30pm – 11pm\n\n\n$95 per person + HST\n\n\nSee more about the Grand Opening Weekend events here!\n\n\n 
URL:https://ladysmithmanor.com/event/james-mullinger-live/
LOCATION:Lady Smith Manor\, 22 Woodlawn Rd\,\, Dorchester\, NB\, E4K 3A8\, Canada
CATEGORIES:The Thirsty Whippet
ATTACH;FMTTYPE=image/jpeg:https://ladysmithmanor.com/wp-content/uploads/2024/03/James-Mullinger-Grand-Opening.jpg
ORGANIZER;CN="Lady Smith Manor":MAILTO:info@ladysmithmanor.com
END:VEVENT
END:VCALENDAR